BEGIN:VCALENDAR
VERSION:2.0
PRODID:-//ChamberMaster//Event Calendar 2.0//EN
METHOD:PUBLISH
X-PUBLISHED-TTL:P3D
REFRESH-INTERVAL:P3D
CALSCALE:GREGORIAN
BEGIN:VEVENT
DTSTART:20251021T210000Z
DTEND:20251021T230000Z
X-MICROSOFT-CDO-ALLDAYEVENT:FALSE
SUMMARY:Investing Matters
DESCRIPTION:Join us for our presentation! Investing for growth and protection with Drew Zinman\,Victory Capital\n\n\n\nAt Edward Jones\, understanding your goals and partnering with you to achieve them is the best part of what we do. Financial education is an important piece of that partnership. That's why we're excited to invite you to our upcoming event\, where you'll learn strategies to help you achieve your financial goals. \n\n\n\nRSVP REQUIRED
X-ALT-DESC;FMTTYPE=text/html:Join us for our presentation! Investing for growth and protection with Drew Zinman\,Victory Capital<br />\n<br />\nAt Edward Jones\, understanding your goals and partnering with you to achieve them is the best part of what we do. Financial education is an important piece of that partnership. That&#39\;s why we&#39\;re excited to invite you to our upcoming event\, where you&#39\;ll learn strategies to help you achieve your financial goals.&nbsp\;<br />\n<br />\nRSVP REQUIRED<br />\n<br />\n&nbsp\;
LOCATION:Bradford Tavern 87 Haverhill street Rowley\, MA 01969
UID:e.2981.44884
SEQUENCE:3
DTSTAMP:20260425T023427Z
URL:https://business.capeannchamber.com/events/details/investing-matters-44884
END:VEVENT

END:VCALENDAR
