BEGIN:VCALENDAR
VERSION:2.0
PRODID:-//ChamberMaster//Event Calendar 2.0//EN
METHOD:PUBLISH
X-PUBLISHED-TTL:P3D
REFRESH-INTERVAL:P3D
CALSCALE:GREGORIAN
BEGIN:VEVENT
DTSTART:20220924T160000Z
DTEND:20220924T200000Z
X-MICROSOFT-CDO-ALLDAYEVENT:FALSE
SUMMARY:Indigenous Heritage Day
DESCRIPTION:Indigenous Heritage Day at the Cape Ann Museum Green will celebrate the culture and traditions of the original stewards of this land. The day will feature interactive song\, dance\, and activities from the Massachusett\, Nipmuc\, and Wampanoag Tribes. During the event\, two artifacts will be unveiled that were restored by artist Darius Coombs using the same methods and materials that his ancestors used hundreds of years ago.\n\nThe day's events will include speakers and a performance by the Wampanoag Nation Singers and Dancers\, who invite the public to participate in traditional dance\, music\, and history of the Eastern Woodlands Tribes. Families will also have an opportunity to participate in a craft station for a hands-on experience of the Indigenous culture.
X-ALT-DESC;FMTTYPE=text/html:<p>Indigenous Heritage Day at the Cape Ann Museum Green will celebrate the culture and traditions of the original stewards of this land. The day will feature interactive song\, dance\, and activities from the Massachusett\, Nipmuc\, and Wampanoag Tribes. During the event\, two artifacts will be unveiled that were restored by artist Darius Coombs using the same methods and materials that his ancestors used hundreds of years ago.</p>\n\n<p>The day's events will include speakers and a performance by the Wampanoag Nation Singers and Dancers\, who invite the public to participate in traditional dance\, music\, and history of the Eastern Woodlands Tribes. Families will also have an opportunity to participate in a craft station for a hands-on experience of the Indigenous culture.</p>\n
LOCATION:Cape Ann Museum Green 13 Poplar St Gloucester MA 01930
UID:e.2981.23016
SEQUENCE:3
DTSTAMP:20260424T140305Z
URL:https://business.capeannchamber.com/events/details/indigenous-heritage-day-23016
END:VEVENT

END:VCALENDAR
