BEGIN:VCALENDAR
VERSION:2.0
PRODID:-//ChamberMaster//Event Calendar 2.0//EN
METHOD:PUBLISH
X-PUBLISHED-TTL:P3D
REFRESH-INTERVAL:P3D
CALSCALE:GREGORIAN
BEGIN:VEVENT
DTSTART:20241205T130000Z
DTEND:20241205T140000Z
X-MICROSOFT-CDO-ALLDAYEVENT:FALSE
SUMMARY:In Person Coffee & Connections - December 2024
DESCRIPTION:Join Us for In-Person Coffee & Connections!\n\nThe Greater Cape Ann Chamber invites you to our upcoming in-person networking event\, Coffee & Connections! This is a casual\, fun\, and informative event that includes an overview of different Chamber initiatives and opportunities to engage.  \n\nJoin members of the Ambassadors Committee and Chamber team for a fun morning of networking\, where you can expand your business connections and discover new opportunities. We look forward to seeing you there!
X-ALT-DESC;FMTTYPE=text/html:<p><span style="font-size:16px\;"><strong>Join Us for In-Person Coffee &amp\; Connections!</strong></span></p>\n\n<p><span style="font-size:16px\;">The Greater Cape Ann Chamber invites you to our upcoming in-person networking event\, Coffee &amp\; Connections! <span style="color: rgb(0\, 0\, 0)\; font-family: Arial\, serif\;">This is a casual\, fun\, and informative event that includes an overview of different Chamber initiatives and opportunities to engage.&nbsp\;&nbsp\;</span></span></p>\n\n<p><span style="font-size:16px\;">Join members of the Ambassadors Committee and Chamber team for a fun morning of networking\, where you can expand your business connections and discover new opportunities. We look forward to seeing you there!</span></p>\n
LOCATION:Chamber Office 24 Harbor Loop Gloucester\, MA 01930
UID:e.2981.33275
SEQUENCE:3
DTSTAMP:20260424T152711Z
URL:https://business.capeannchamber.com/events/details/in-person-coffee-connections-december-2024-33275
END:VEVENT

END:VCALENDAR
