BEGIN:VCALENDAR
VERSION:2.0
PRODID:-//ChamberMaster//Event Calendar 2.0//EN
METHOD:PUBLISH
X-PUBLISHED-TTL:P3D
REFRESH-INTERVAL:P3D
CALSCALE:GREGORIAN
BEGIN:VEVENT
DTSTART:20241202T000000Z
DTEND:20241202T020000Z
X-MICROSOFT-CDO-ALLDAYEVENT:FALSE
SUMMARY:Iconic Jazz Legacies: Latin Jazz Holiday
DESCRIPTION:Celebrate the holiday season with an evening of Latin Jazz favorites featuring the music of icons Tito Puente\, Celia Cruz\, Machito and Chano Pozo. Grammy  award-winning trumpeter and Musical Director Bijon Watson has assembled an all-star ensemble to perform the music of these Latin jazz legends. With sensational vocalists\, virtuosic instrumentalists and a full horn and rhythm section\, this is more than just a concert it's a musical fiesta you won't want to miss!
X-ALT-DESC;FMTTYPE=text/html:<span style="font-size:14px"><span style="background-color:rgb(250\, 250\, 250)\; color:rgb(0\, 0\, 0)\; font-family:open sans\,helvetica neue\,helvetica\,arial\,sans-serif">Celebrate the holiday season with an evening of Latin Jazz favorites featuring the music of icons Tito Puente\, Celia Cruz\, Machito and Chano Pozo. Grammy&reg\; award-winning trumpeter and Musical Director Bijon Watson has assembled an all-star ensemble to perform the music of these Latin jazz legends. With sensational vocalists\, virtuosic instrumentalists and a full horn and rhythm section\, this is more than just a concert&mdash\;it&rsquo\;s a musical fiesta you won&rsquo\;t want to miss!</span></span>
LOCATION:37 Main St\, Rockport\, MA 01966
UID:e.2981.33162
SEQUENCE:3
DTSTAMP:20260424T153322Z
URL:https://business.capeannchamber.com/events/details/iconic-jazz-legacies-latin-jazz-holiday-33162
END:VEVENT

END:VCALENDAR
