BEGIN:VCALENDAR
VERSION:2.0
PRODID:-//ChamberMaster//Event Calendar 2.0//EN
METHOD:PUBLISH
X-PUBLISHED-TTL:P3D
REFRESH-INTERVAL:P3D
CALSCALE:GREGORIAN
BEGIN:VEVENT
DTSTART:20250823T233000Z
DTEND:20250824T013000Z
X-MICROSOFT-CDO-ALLDAYEVENT:FALSE
SUMMARY:Hot Sardines
DESCRIPTION:Since their early days performing for Brooklyn's wild underground parties\, the Hot Sardines have skyrocketed to fame with their infectious brand of reinvigorated classic jazz. Described by The New York Times as "potent and assured" and The Times of London as "simply phenomenal\," the group has earned them more than 60 million digital streams across platforms.
X-ALT-DESC;FMTTYPE=text/html:<p><span style="color:rgb(0\, 0\, 0)\; font-family:open sans\,arial\,helvetica\,sans-serif\; font-size:16px">Since their early days performing for Brooklyn&rsquo\;s wild underground parties\, the Hot Sardines have skyrocketed to fame with their infectious brand of reinvigorated classic jazz. Described by The New York Times as &ldquo\;potent and assured&rdquo\; and The Times of London as &ldquo\;simply phenomenal\,&rdquo\; the group has earned them more than 60 million digital streams across platforms.</span></p>\n
LOCATION:37 Main St\, Rockport\, MA 01966
UID:e.2981.36776
SEQUENCE:3
DTSTAMP:20260424T235226Z
URL:https://business.capeannchamber.com/events/details/hot-sardines-08-23-2025-36776
END:VEVENT

END:VCALENDAR
