BEGIN:VCALENDAR
VERSION:2.0
PRODID:-//ChamberMaster//Event Calendar 2.0//EN
METHOD:PUBLISH
X-PUBLISHED-TTL:P3D
REFRESH-INTERVAL:P3D
CALSCALE:GREGORIAN
BEGIN:VEVENT
DTSTART:20250405T000000Z
DTEND:20250405T013000Z
X-MICROSOFT-CDO-ALLDAYEVENT:FALSE
SUMMARY:Hot Gnome: A Live Comedy Special with Kelly MacFarland
DESCRIPTION:Get ready to laugh out loud as comedian Kelly MacFarland takes the stage for her hilarious new special\, Hot Gnome!\n\n\n\n\nKnown for her adorable sass\, relatable humor\, and irresistibly quirky storytelling\, Kelly brings a fresh perspective to life's awkward moments\, personal triumphs\, and everyday absurdities.\n\nKelly tackles the rollercoaster of relationships\, the heartaches of loss\, and the hilarious realities of aging with her trademark wit and warmth. With sharp observational humor and a knack for turning life's struggles into laugh-out-loud moments\, Kelly brings a fresh\, funny\, and deeply relatable perspective to the stage. Filmed live in front of an electric audience\, Hot Gnome promises an unforgettable night of comedy filled with Kelly's signature charm\, quick-fire punchlines\, and a little gnome-inspired mischief. Don't miss this special taping it's going to be one for the books!\n\nWith feature comedian Carolyn Plummer
X-ALT-DESC;FMTTYPE=text/html:<p>Get ready to laugh out loud as comedian Kelly MacFarland takes the stage for her hilarious new special\, Hot Gnome!</p>\n\n<div>\n<div>\n<div>\n<p>Known for her adorable sass\, relatable humor\, and irresistibly quirky storytelling\, Kelly brings a fresh perspective to life&rsquo\;s awkward moments\, personal triumphs\, and everyday absurdities.</p>\n\n<p>Kelly tackles the rollercoaster of relationships\, the heartaches of loss\, and the hilarious realities of aging with her trademark wit and warmth. With sharp observational humor and a knack for turning life&rsquo\;s struggles into laugh-out-loud moments\, Kelly brings a fresh\, funny\, and deeply relatable perspective to the stage. Filmed live in front of an electric audience\, Hot Gnome promises an unforgettable night of comedy filled with Kelly&rsquo\;s signature charm\, quick-fire punchlines\, and a little gnome-inspired mischief. Don&rsquo\;t miss this special taping&mdash\;it&rsquo\;s going to be one for the books!</p>\n\n<p><em>With feature comedian</em><em>&nbsp\;Carolyn Plummer</em></p>\n</div>\n</div>\n</div>\n
LOCATION:The Cabot 286 Cabot St Beverly\, MA 01915
UID:e.2981.35158
SEQUENCE:3
DTSTAMP:20260424T141048Z
URL:https://business.capeannchamber.com/events/details/hot-gnome-a-live-comedy-special-with-kelly-macfarland-35158
END:VEVENT

END:VCALENDAR
