BEGIN:VCALENDAR
VERSION:2.0
PRODID:-//ChamberMaster//Event Calendar 2.0//EN
METHOD:PUBLISH
X-PUBLISHED-TTL:P3D
REFRESH-INTERVAL:P3D
CALSCALE:GREGORIAN
BEGIN:VEVENT
DTSTART:20220213T200000Z
DTEND:20220213T220000Z
X-MICROSOFT-CDO-ALLDAYEVENT:FALSE
SUMMARY:Horszowski Trio at Shalin Liu
DESCRIPTION:Pre-concert talk\, 2 PM\n\nJesse Mills\, violin | Ole Akahoshi\, cello | Rieko Aizawa\, piano\n\nThe Horszowski Trio has quickly become a vital force in the international chamber music world. Since their debut performance in New York City in 2011\, they have toured extensively throughout North America\, Europe\, the Far East\, and India\, traversing the extensive traditional piano trio repertoire and introducing audiences to new music that they have commissioned and premiered. In 2019\, the Horszowski Trio made its London debut at Wigmore Hall\, as well as the appeared at the 92nd Street Y and the Kimmel Center among many other prestigious venues. In addition\, they received tremendous acclaim for their release of Schumann's complete piano trios on AVIE Records.
X-ALT-DESC;FMTTYPE=text/html:<span style="color:rgb(0\, 0\, 0)\; font-family:docs-calibri\; font-size:15px">Pre-concert talk\, 2 PM<br />\nJesse Mills\, violin | Ole Akahoshi\, cello | Rieko Aizawa\, piano<br />\nThe Horszowski Trio has quickly become a vital force in the international chamber music world. Since their debut performance in New York City in 2011\, they have toured extensively throughout North America\, Europe\, the Far East\, and India\, traversing the extensive traditional piano trio repertoire and introducing audiences to new music that they have commissioned and premiered. In 2019\, the Horszowski Trio made its London debut at Wigmore Hall\, as well as the appeared at the 92nd Street Y and the Kimmel Center among many other prestigious venues. In addition\, they received tremendous acclaim for their release of Schumann&rsquo\;s complete piano trios on AVIE Records.</span>
LOCATION:Shalin Liu Performance Center 37 Main Street Rockport\, MA 01966
UID:e.2981.21748
SEQUENCE:3
DTSTAMP:20260420T135450Z
URL:https://business.capeannchamber.com/events/details/horszowski-trio-at-shalin-liu-21748
END:VEVENT

END:VCALENDAR
