BEGIN:VCALENDAR
VERSION:2.0
PRODID:-//ChamberMaster//Event Calendar 2.0//EN
METHOD:PUBLISH
X-PUBLISHED-TTL:P3D
REFRESH-INTERVAL:P3D
CALSCALE:GREGORIAN
BEGIN:VEVENT
DTSTART:20211211T180000Z
DTEND:20211211T200000Z
X-MICROSOFT-CDO-ALLDAYEVENT:FALSE
SUMMARY:Horse Drawn Carriage Rides - Rockport
DESCRIPTION:Free horse drawn carriage rides along historic Bearskin Neck.
X-ALT-DESC;FMTTYPE=text/html:Free horse drawn carriage rides along historic Bearskin Neck.
LOCATION:
UID:e.2981.21482
SEQUENCE:3
DTSTAMP:20260425T035505Z
URL:https://business.capeannchamber.com/events/details/horse-drawn-carriage-rides-rockport-12-11-2021-21482
END:VEVENT

END:VCALENDAR
