BEGIN:VCALENDAR
VERSION:2.0
PRODID:-//ChamberMaster//Event Calendar 2.0//EN
METHOD:PUBLISH
X-PUBLISHED-TTL:P3D
REFRESH-INTERVAL:P3D
CALSCALE:GREGORIAN
BEGIN:VEVENT
DTSTART:20231221T230000Z
DTEND:20231222T020000Z
X-MICROSOFT-CDO-ALLDAYEVENT:FALSE
SUMMARY:Hoppy Homegrown Market & Donation Gift-Wrapping Event
DESCRIPTION:Attention Last Minute Shoppers! Ipswich Ale Brewery is hosting another Hoppy Homegrown Market on Thursday\, December 21st from 6-9pm. Sip while you shop from ten artisan vendors of the Ipswich Homegrown Market group. Grab a beer and support young entrepreneurs and local artists this holiday season with unique gifts. Need that gift wrapped? There will be a gift wrapping station available for a small donation. Proceeds from gift-wrapping will go to benefit the non-profit Ruth's House.
X-ALT-DESC;FMTTYPE=text/html:Attention Last Minute Shoppers! Ipswich Ale Brewery is hosting another Hoppy Homegrown Market on Thursday\, December 21st from 6-9pm. Sip while you shop from ten artisan vendors of the Ipswich Homegrown Market group. Grab a beer and support young entrepreneurs and local artists this holiday season with unique gifts. Need that gift wrapped? There will be a gift wrapping station available for a small donation. Proceeds from gift-wrapping will go to benefit the non-profit Ruth&#39\;s House.&nbsp\;
LOCATION:2 Brewery Place\, Ipswich\, MA
UID:e.2981.27079
SEQUENCE:3
DTSTAMP:20260421T232620Z
URL:https://business.capeannchamber.com/events/details/hoppy-homegrown-market-donation-gift-wrapping-event-27079
END:VEVENT

END:VCALENDAR
