BEGIN:VCALENDAR
VERSION:2.0
PRODID:-//ChamberMaster//Event Calendar 2.0//EN
METHOD:PUBLISH
X-PUBLISHED-TTL:P3D
REFRESH-INTERVAL:P3D
CALSCALE:GREGORIAN
BEGIN:VEVENT
DTSTART:20221015T143000Z
DTEND:20221015T160000Z
X-MICROSOFT-CDO-ALLDAYEVENT:FALSE
SUMMARY:Hopper's Houses Walking Tour
DESCRIPTION:Explore the area surrounding the Museum on this walk past select Gloucester houses made famous by American realist painter Edward Hopper (1882-1967). Hopper is known to have painted in Gloucester on five separate occasions in the first decades of the 20th century. His paintings from this period capture the local landscape and architecture in a loosely rendered\, light filled style and are considered by many to be some of his finest works.\n\nCost is $10 CAM members / $20 nonmembers (includes Museum admission). Space is limited\; advance registration required.  Reserve online or call 978-283-0455 x110 or email info@capeannmuseum.org.
X-ALT-DESC;FMTTYPE=text/html:<p>Explore the area surrounding the Museum on this walk past select Gloucester houses made famous by American realist painter Edward Hopper (1882-1967).&nbsp\;Hopper is known to have painted in Gloucester on five separate occasions in the first decades of the 20th century. His paintings from this period capture the local landscape and architecture in a loosely rendered\, light filled style and are considered by many to be some of his finest works.</p>\n\n<p>Cost is $10 CAM members / $20 nonmembers (includes Museum admission). Space is limited\; advance registration required.&nbsp\;&nbsp\;Reserve online or call 978-283-0455 x110 or email&nbsp\;<a href="mailto:info@capeannmuseum.org" style="box-sizing: border-box\; margin: 0px\; padding: 0px\; border: 0px\; font-weight: bold\; font-style: inherit\; font-family: inherit\; vertical-align: baseline\; background: transparent\; color: rgb(21\, 91\, 128)\; text-decoration-line: none\;">info@capeannmuseum.org</a>.</p>\n
LOCATION:Cape Ann Museum 27 Pleasant St Gloucester\, MA
UID:e.2981.23060
SEQUENCE:3
DTSTAMP:20260424T123904Z
URL:https://business.capeannchamber.com/events/details/hopper-s-houses-walking-tour-10-15-2022-23060
END:VEVENT

END:VCALENDAR
