BEGIN:VCALENDAR
VERSION:2.0
PRODID:-//ChamberMaster//Event Calendar 2.0//EN
METHOD:PUBLISH
X-PUBLISHED-TTL:P3D
REFRESH-INTERVAL:P3D
CALSCALE:GREGORIAN
BEGIN:VEVENT
DTSTART:20241207T150000Z
DTEND:20241207T210000Z
X-MICROSOFT-CDO-ALLDAYEVENT:FALSE
SUMMARY:Homegrown Holiday Market-Ipswich
DESCRIPTION:Homegrown Holiday Market 2024\n\nThe Homegrown Holiday Market is coming to Ipswich!\n\n\n\nJoin us at the Floriana Mansion at the Hellenic Center for a European-Style holiday market.\n\n\n\nOver 50 vendors\n\nFood tents\n\nBeer\, Wine\, Signature Cocktails\n\nLive Music\n\nHoliday Cheer!
X-ALT-DESC;FMTTYPE=text/html:<span style="font-size:18px\;"><span style="font-family:verdana\;"><strong><span style="color:#2E363F\;">Homegrown Holiday Market 2024</span></strong></span></span><br />\n<span style="color:#4F4F4F\;"><span style="font-family:open sans\,sans-serif\;"><span style="font-size:10.5pt\;"><span style="font-size:18px\;"><span style="font-family:verdana\;">The Homegrown Holiday Market is coming to Ipswich!<br />\n<br />\nJoin us at the Floriana Mansion at the Hellenic Center for a European-Style holiday market.<br />\n<br />\nOver 50 vendors<br />\nFood tents<br />\nBeer\, Wine\, Signature Cocktails<br />\nLive Music</span></span><br />\n<span style="font-size:18px\;"><span style="font-family:verdana\;">Holiday Cheer!</span></span></span></span></span><br />\n&nbsp\;
LOCATION:Floriana Mansion at the Hellenic Center
UID:e.2981.34160
SEQUENCE:3
DTSTAMP:20260424T123859Z
URL:https://business.capeannchamber.com/events/details/homegrown-holiday-market-ipswich-34160
END:VEVENT

END:VCALENDAR
