BEGIN:VCALENDAR
VERSION:2.0
PRODID:-//ChamberMaster//Event Calendar 2.0//EN
METHOD:PUBLISH
X-PUBLISHED-TTL:P3D
REFRESH-INTERVAL:P3D
CALSCALE:GREGORIAN
BEGIN:VEVENT
DTSTART:20241215T003000Z
DTEND:20241215T030000Z
X-MICROSOFT-CDO-ALLDAYEVENT:FALSE
SUMMARY:Home for the Holidays Special
DESCRIPTION:Celebrate the Holidays at Gloucester Stage with your host Paul Melendy* (Tall Tales from Blackburn Tavern) for a one-night only fundraiser.\n\nStep into the retro television set as the Live Studio Audience for this late-night comedy show. Paul will be joined by the band YOURS TRULY live onstage as they welcome special guests. Full of holiday fun & sing-a-longs\, tickets include open bar and dessert bar after the performance. The Home for the Holidays Special is the perfect way to celebrate the Season with laughs and cheer.\n\nOne Night Only: December 14th at 7:30pm\n\nGloucester Stage at 267 E Main St. Gloucester\, MA\n\nTickets are reserved seating and price of admission includes cocktails and dessert buffet with post-show fundraiser.
X-ALT-DESC;FMTTYPE=text/html:<p>Celebrate the Holidays at Gloucester Stage with your host Paul Melendy* (<em>Tall Tales from Blackburn Tavern</em>) for a one-night only fundraiser.</p>\n\n<p>Step into the retro television set as the Live Studio Audience for this late-night comedy show. Paul will be joined by the band YOURS TRULY live onstage as they welcome special guests. Full of holiday fun &amp\; sing-a-longs\, tickets include open bar and dessert bar after the performance.&nbsp\;The Home for the Holidays Special&nbsp\;is the perfect way to celebrate the Season with laughs and cheer.</p>\n\n<p><strong>One Night Only: December 14th at 7:30pm</strong><br />\nGloucester Stage at 267 E Main St. Gloucester\, MA<br />\nTickets are reserved seating and price of admission includes&nbsp\;cocktails and dessert buffet with post-show fundraiser.</p>\n
LOCATION:Gloucester Stage Company 267 East Main St. Gloucester\, MA 01930
UID:e.2981.34129
SEQUENCE:3
DTSTAMP:20260424T140357Z
URL:https://business.capeannchamber.com/events/details/home-for-the-holidays-special-34129
END:VEVENT

END:VCALENDAR
