BEGIN:VCALENDAR
VERSION:2.0
PRODID:-//ChamberMaster//Event Calendar 2.0//EN
METHOD:PUBLISH
X-PUBLISHED-TTL:P3D
REFRESH-INTERVAL:P3D
CALSCALE:GREGORIAN
BEGIN:VEVENT
DTSTART:20251206T000000Z
DTEND:20251206T030000Z
X-MICROSOFT-CDO-ALLDAYEVENT:FALSE
SUMMARY:Home for the Holidays Special
DESCRIPTION:Celebrate the Holidays at Gloucester Stage with Paula Plum and special guests for a one-night only fundraiser.\n\nWe're switching it up this holiday season and curating a night full of holiday-themed Broadway classics! Join us to celebrate Gloucester Stage\, your community\, and the artists that have inspired us throughout the years. Come be serenaded by our award-winning soloists as they warm up our hearts ahead of the holiday season. Mingle with your friends and neighbors in our lobby after the show with an open bar and scrumptious bites!
X-ALT-DESC;FMTTYPE=text/html:<p>Celebrate the Holidays at Gloucester Stage with Paula Plum and special guests for a one-night only fundraiser.</p>\n\n<p>We&rsquo\;re switching it up this holiday season and curating a night full of holiday-themed Broadway classics! Join us to celebrate Gloucester Stage\, your community\, and the artists that have inspired us throughout the years. Come be serenaded by our award-winning soloists as they warm up our hearts ahead of the holiday season. Mingle with your friends and neighbors in our lobby after the show with an open bar and scrumptious bites!</p>\n
LOCATION:Natti-Willsky Performance Center: Home for Gloucester Stage Company 267 East Main St. Gloucester\, MA 01930
UID:e.2981.45505
SEQUENCE:3
DTSTAMP:20260422T021743Z
URL:https://business.capeannchamber.com/events/details/home-for-the-holidays-special-12-05-2025-45505
END:VEVENT

END:VCALENDAR
