BEGIN:VCALENDAR
VERSION:2.0
PRODID:-//ChamberMaster//Event Calendar 2.0//EN
METHOD:PUBLISH
X-PUBLISHED-TTL:P3D
REFRESH-INTERVAL:P3D
CALSCALE:GREGORIAN
BEGIN:VEVENT
DTSTART:20241215T003000Z
DTEND:20241215T043000Z
X-MICROSOFT-CDO-ALLDAYEVENT:FALSE
SUMMARY:HOLIDAYS & WINTERTIDE A night of Christmas and Winter music with Chris + Joe\, Renee + Joe\, and Dennis Monagle
DESCRIPTION:12/14/24\n\nReserved Seating and G.A. Standing 7:30pm doors / 8:00pm show\n\n21+\, Positive I.D. Required $25-35\n\n\n\nJoin Chris Langathianos\, Joe Wilkins\, Renee Dupuis\, Joe Cardoza\, & Dennis Monagle for a holiday season tradition at The Cut! Enjoy the sounds of the season\, the sounds of winter\, and other fun   and funny   surprises in this annual holiday tradition.\n\n\n\nWinners of the 2020 New England Songwriting Competition for their song\, "Your Town (is Gonna Change)\," Chris + Joe (Chris Langathianos and Joe Wilkins) are a Cape Ann-based duo with deep roots in the Greater Boston music scene\, are known for their tight harmonies\, thoughtful songs\, and engaging banter. Joe\, a multi-instrumentalist\, expert songwriter\, and producer\, teamed up with vocalist and live show producer\, Langathianos\, in 2013 and they have continued to capture audiences with their easy and melodic\, yet diverse\, style\, witty banter and approachable sets.\n\n\n\nFrom easy melodic folk to contemporary pop and rock\, Chris + Joe bring a new twist to old favorites\, mixed with deeply personal\, award-winning originals\, and a side of self-deprecating audience give-and-take.\n\n\n\nRenee & Joe is a folk/rock duo whose music features both high energy vocal and instrumental arrangements as well as minimalist themes and gentle harmonies. They've released three full length albums since 2014 and can be seen playing around Cape Ann and greater New England as a duo and as a part of other musical ensembles. Renee (piano/vocals) & Joe (bass/guitar/vocals) also play in the neo-soul\, cabaret band What Time Is It Mr. Fox?. They live on Cape Ann with their two children.
X-ALT-DESC;FMTTYPE=text/html:<span style="color:rgb(64\, 64\, 65)\; font-family:open sans\,sans-serif\; font-size:14px">12/14/24</span><br />\n<span style="color:rgb(64\, 64\, 65)\; font-family:open sans\,sans-serif\; font-size:14px">Reserved&nbsp\;Seating and G.A. Standing 7:30pm doors / 8:00pm show</span><br />\n<span style="color:rgb(64\, 64\, 65)\; font-family:open sans\,sans-serif\; font-size:14px">21+\, Positive I.D. Required $25-35</span><br />\n<br />\n<span style="color:rgb(64\, 64\, 65)\; font-family:open sans\,sans-serif\; font-size:14px">Join Chris Langathianos\, Joe Wilkins\, Renee Dupuis\, Joe Cardoza\, &amp\; Dennis Monagle for a holiday season tradition at The Cut! Enjoy the sounds of the season\, the sounds of winter\, and other fun &ndash\; and funny &ndash\; surprises in this annual holiday tradition.</span><br />\n<br />\n<span style="color:rgb(64\, 64\, 65)\; font-family:open sans\,sans-serif\; font-size:14px">Winners of the 2020 New England Songwriting Competition for their song\, &ldquo\;Your Town (is Gonna Change)\,&rdquo\; Chris + Joe (Chris Langathianos and Joe Wilkins) are a Cape Ann-based duo with deep roots in the Greater Boston music scene\, are known for their tight harmonies\, thoughtful songs\, and engaging banter. Joe\, a multi-instrumentalist\, expert songwriter\, and producer\, teamed up with vocalist and live show producer\, Langathianos\, in 2013 and they have continued to capture audiences with their easy and melodic\, yet diverse\, style\, witty banter and approachable sets.</span><br />\n<br />\n<span style="color:rgb(64\, 64\, 65)\; font-family:open sans\,sans-serif\; font-size:14px">From easy melodic folk to contemporary pop and rock\, Chris + Joe bring a new twist to old favorites\, mixed with deeply personal\, award-winning originals\, and a side of self-deprecating audience give-and-take.</span><br />\n<br />\n<span style="color:rgb(64\, 64\, 65)\; font-family:open sans\,sans-serif\; font-size:14px">Renee &amp\; Joe is a folk/rock duo whose music features both high energy vocal and instrumental arrangements as well as minimalist themes and gentle harmonies. They&rsquo\;ve released three full length albums since 2014 and can be seen playing around Cape Ann and greater New England as a duo and as a part of other musical ensembles. Renee (piano/vocals) &amp\; Joe (bass/guitar/vocals) also play in the neo-soul\, cabaret band What Time Is It Mr. Fox?. They live on Cape Ann with their two children.</span>
LOCATION:The Cut 177 Main Street Gloucester\, MA 01930
UID:e.2981.33252
SEQUENCE:3
DTSTAMP:20260424T152843Z
URL:https://business.capeannchamber.com/events/details/holidays-wintertide-a-night-of-christmas-and-winter-music-with-chris-joe-renee-joe-and-dennis-monagle-33252
END:VEVENT

END:VCALENDAR
