BEGIN:VCALENDAR
VERSION:2.0
PRODID:-//ChamberMaster//Event Calendar 2.0//EN
METHOD:PUBLISH
X-PUBLISHED-TTL:P3D
REFRESH-INTERVAL:P3D
CALSCALE:GREGORIAN
BEGIN:VEVENT
DTSTART:20231130T190000Z
DTEND:20231201T000000Z
X-MICROSOFT-CDO-ALLDAYEVENT:FALSE
SUMMARY:Holiday Sip & Shop at Castle Hill
DESCRIPTION:Holiday Sip & Shop at Castle Hill\n\nBrings Together Ipswich's Three Trustees Retail Shops:\n\nCrane Beach Store\, Appleton Farm Store and Castle Hill Gift Shop\n\n\n\nShop local for unique holiday gifts\, support The Trustees\,\n\nenjoy snacks\, mocktails\, door prizes and a boutique shopping experience\n\n\n\nOn Thursday\, November 30th\, from 2PM   7PM\, Castle Hill will host a Holiday Sip & Shop\, featuring Ipswich's three Trustees retail shops   the Crane Beach Store\, Appleton Farm Store and Castle Hill Gift Shop.  The Holiday Sip & Shop is free and takes place in the Great House at Castle Hill\, 290 Argilla Road\, Ipswich. \n\nEnjoy shopping Crane Beach and Appleton Farm "pop up" shops set up in the decorated first floor gallery of the Great House and browse the Castle Hill Gift Shop.\n\nEach Trustees retail shop will showcase their own unique mix of products:\n\n	Castle Hill Gift Shop will showcase art-inspired gifts for the home\, accessories\, original artwork and handcrafted jewelry by local artists\, custom Castle Hill products\, 1920's fashion\, books\, ornaments\, kids toys and games. \n	Crane Beach Store will feature their signature Crane Beach apparel\, including hooded and crew neck sweatshirts for adults and youth\, and t-shirts for adults\, Crane Beach blankets and Crane Beach ornaments.\n	Appleton Farm Store will have a collection of favorite products including beeswax candles\, honey\, maple syrup\, jams\, locally made cocktail mixers\, and holiday ornaments.  Items from Appleton Farms Kitchen\, will include sourdough bread\, baked goods and pies. Holiday orders for cheese board kits\, sourdough bread and pies will be taken.  \n\nEvery purchase at the Holiday Sip & Shop directly supports each Trustees property and the mission to protect places of exceptional scenic\, historic\, and ecological value for public use and enjoyment.\n\n\n\nThe November 30th Holiday Sip & Shop kicks off the festive season at Castle Hill. Christmas at Castle Hill opens on Friday\, December 1 at 4PM\, welcoming all to enjoy this year's holiday theme Travels with the Cranes. Each room in the 1920s mansion is decorated for the holidays\, drawing inspiration from many of the Crane family travels around the world\, including Paris\, Japan\, Egypt\, and New York.
X-ALT-DESC;FMTTYPE=text/html:<strong><span style="color:black\;"><span style="font-family:calibri light\,sans-serif\;"><span style="font-size:14.0pt\;">Holiday Sip &amp\; Shop at Castle Hill</span></span></span></strong><br />\n<strong><span style="color:black\;"><span style="font-family:calibri light\,sans-serif\;"><span style="font-size:14.0pt\;">Brings Together Ipswich&rsquo\;s Three Trustees Retail Shops:</span></span></span></strong><br />\n<strong><span style="color:black\;"><span style="font-family:calibri light\,sans-serif\;"><span style="font-size:14.0pt\;">Crane Beach Store\, Appleton Farm Store and Castle Hill Gift Shop</span></span></span></strong><br />\n<br />\n<em><span style="font-family:calibri light\,sans-serif\;"><span style="font-size:12.0pt\;">Shop local for unique holiday gifts\, support The Trustees\,<br />\nenjoy snacks\, mocktails\, door prizes and a boutique shopping experience</span></span></em><br />\n<br />\n<span style="color:black\;"><span style="font-family:calibri light\,sans-serif\;"><span style="font-size:12.0pt\;">On Thursday\, November 30th\, from 2PM &ndash\; 7PM\, Castle Hill will host a Holiday Sip &amp\; Shop\, featuring Ipswich&rsquo\;s three Trustees retail shops &ndash\; the Crane Beach Store\, Appleton Farm Store and Castle Hill Gift Shop.&nbsp\; The Holiday Sip &amp\; Shop is free and takes place in the Great House at Castle Hill\, 290 Argilla Road\, Ipswich. </span></span></span><br />\n<span style="color:black\;"><span style="font-family:calibri light\,sans-serif\;">Enjoy shopping Crane Beach and Appleton Farm &quot\;pop up&quot\; shops set up in the decorated first floor gallery of the Great House</span></span> <span style="color:black\;"><span style="font-family:calibri light\,sans-serif\;">and browse the Castle Hill Gift Shop.</span></span><br />\n<span style="color:black\;"><span style="font-family:calibri light\,sans-serif\;"><span style="font-size:12.0pt\;">Each Trustees retail shop will showcase their own unique mix of products:</span></span></span>\n<ul>\n	<li style="margin-top:0in\;margin-right:-27.0pt\;margin-bottom:0in\;"><span style="font-family:calibri light\,sans-serif\;"><span style="font-size:12.0pt\;">Castle Hill Gift Shop will showcase art-inspired gifts for the home\, accessories\, original artwork and handcrafted jewelry by local artists\, custom Castle Hill products\, 1920&rsquo\;s fashion\, books\, ornaments\, kids toys and games. </span></span></li>\n	<li style="margin-top:0in\;margin-right:-13.5pt\;margin-bottom:0in\;"><span style="color:black\;"><span style="font-family:calibri light\,sans-serif\;"><span style="font-size:12.0pt\;">Crane Beach Store will feature their signature Crane Beach apparel\, including hooded and crew neck sweatshirts for adults and youth\, and t-shirts for adults\, Crane Beach blankets and Crane Beach ornaments.</span></span></span></li>\n	<li style="margin-top:0in\;margin-right:-22.5pt\;margin-bottom:0in\;"><span style="color:black\;"><span style="font-family:calibri light\,sans-serif\;">Appleton Farm Store</span></span><span style="font-family:calibri light\,sans-serif\;"> will have a collection of favorite products including beeswax candles\, honey\, maple syrup\, jams\, locally made cocktail mixers\, and holiday ornaments.&nbsp\; Items from Appleton Farms Kitchen\, will include sourdough bread\, baked goods and pies. Holiday orders for cheese board kits\, sourdough bread and pies will be taken. &nbsp\;</span></li>\n</ul>\n<span style="font-family:calibri light\,sans-serif\;">Every purchase at the Holiday Sip &amp\; Shop directly supports each Trustees property and the mission to protect places of exceptional scenic\, historic\, and ecological value for public use and enjoyment.</span><br />\n<br />\n<span style="font-family:calibri light\,sans-serif\;">The November 30<sup>th</sup> Holiday Sip &amp\; Shop kicks off the festive season at Castle Hill. Christmas at Castle Hill opens on Friday\, December 1 at 4PM\, welcoming all to enjoy this year&rsquo\;s holiday theme <em>Travels with the Cranes</em>. Each room in the 1920s mansion is decorated for the holidays\, drawing inspiration from many of the Crane family travels around the world\, including Paris\, Japan\, Egypt\, and New York. </span>
LOCATION:Castle Hill on the Crane Estate
UID:e.2981.27038
SEQUENCE:3
DTSTAMP:20260421T203033Z
URL:https://business.capeannchamber.com/events/details/holiday-sip-shop-at-castle-hill-27038
END:VEVENT

END:VCALENDAR
