BEGIN:VCALENDAR
VERSION:2.0
PRODID:-//ChamberMaster//Event Calendar 2.0//EN
METHOD:PUBLISH
X-PUBLISHED-TTL:P3D
REFRESH-INTERVAL:P3D
CALSCALE:GREGORIAN
BEGIN:VEVENT
DTSTART:20221209T230000Z
DTEND:20221210T010000Z
X-MICROSOFT-CDO-ALLDAYEVENT:FALSE
SUMMARY:Holiday Pop Up Market at Treetop Yoga: Sip\, Shop and Yoga with Hemp CBD
DESCRIPTION:Join Treetop Yoga and Cape Ann Compass Health/Wellness Coaching for an evening to both treat yourself and treat others. Forget the holiday hustle\, and take care of yourself while shopping for others this season.\n\n\n\nSign up for a one hour Friday Fun Yoga Flow with Sharon Esker that will include an option Hemp CBD Wellness healing from Cape Ann Compass/Green Compass. All proceeds from this $10 class will go to The Open Door.\n\n\n\nAfter class\, head to our lobby for shopping and meet some local wellness providers who can help you find some calm. We are excited to have products from Temple of Enora Jewelry\, Eleven Eleven Elixers\, Annisquam River Pottery\, One Ocean One Love\, Rocky Shores Art\, Leslie Heffron Art\, Cedar Hill Farm BNB\, Savvi Lifestyle Clothing\, Green Compass CBD\, Mary Donovan Stretch Artists\, and more!\n\n\n\nCome for Yoga or\n\nCome to Sip and Shop or\n\nCome for Both!\n\n\n\nShopping is open to the public if you choose not to participate in the yoga class.\n\n\n\n#everyBODYwelcome
X-ALT-DESC;FMTTYPE=text/html:Join Treetop Yoga and Cape Ann Compass Health/Wellness Coaching for an evening to both treat yourself and treat others. Forget the holiday hustle\, and take care of yourself while shopping for others this season.<br />\n<br />\nSign up for a one hour Friday Fun Yoga Flow with Sharon Esker that will include an option Hemp CBD Wellness healing from Cape Ann Compass/Green Compass. All proceeds from this $10 class will go to The Open Door.<br />\n<br />\nAfter class\, head to our lobby for shopping and meet some local wellness providers who can help you find some calm. We are excited to have products from Temple of Enora Jewelry\, Eleven Eleven Elixers\, Annisquam River Pottery\, One Ocean One Love\, Rocky Shores Art\, Leslie Heffron Art\, Cedar Hill Farm BNB\, Savvi Lifestyle Clothing\, Green Compass CBD\, Mary Donovan Stretch Artists\, and more!<br />\n<br />\nCome for Yoga or<br />\nCome to Sip and Shop or<br />\nCome for Both!<br />\n<br />\nShopping is open to the public if you choose not to participate in the yoga class.<br />\n<br />\n#everyBODYwelcome<br />\n<br />\n<br />\n<br />\n&nbsp\;
LOCATION:Treetop Yoga 3A Pond Road\, Gloucester\, MA 01930
UID:e.2981.24562
SEQUENCE:3
DTSTAMP:20260424T090802Z
URL:https://business.capeannchamber.com/events/details/holiday-pop-up-market-at-treetop-yoga-sip-shop-and-yoga-with-hemp-cbd-24562
END:VEVENT

END:VCALENDAR
