BEGIN:VCALENDAR
VERSION:2.0
PRODID:-//ChamberMaster//Event Calendar 2.0//EN
METHOD:PUBLISH
X-PUBLISHED-TTL:P3D
REFRESH-INTERVAL:P3D
CALSCALE:GREGORIAN
BEGIN:VEVENT
DTSTART:20251024T220000Z
DTEND:20251024T230000Z
X-MICROSOFT-CDO-ALLDAYEVENT:FALSE
SUMMARY:Holiday Mocktail Night: Learn\, Sip\, Celebrate!
DESCRIPTION:Experience a festive evening at our 10/24 Holiday Mocktail Night\, where you'll learn to craft delightful non-alcoholic beverages perfect for the season. Enjoy sipping your creations while connecting with others\, and leave with a glass\, stirrer\, and a mini recipe book to continue the celebration at home all for just $40 per person.
X-ALT-DESC;FMTTYPE=text/html:Experience a festive evening at our 10/24 Holiday Mocktail Night\, where you&#39\;ll learn to craft delightful non-alcoholic beverages perfect for the season. Enjoy sipping your creations while connecting with others\, and leave with a glass\, stirrer\, and a mini recipe book to continue the celebration at home&mdash\;all for just $40 per person.
LOCATION:Revive Wellness 232 Main St. Gloucester 01930
UID:e.2981.45179
SEQUENCE:3
DTSTAMP:20260425T024018Z
URL:https://business.capeannchamber.com/events/details/holiday-mocktail-night-learn-sip-celebrate-45179
END:VEVENT

END:VCALENDAR
