BEGIN:VCALENDAR
VERSION:2.0
PRODID:-//ChamberMaster//Event Calendar 2.0//EN
METHOD:PUBLISH
X-PUBLISHED-TTL:P3D
REFRESH-INTERVAL:P3D
CALSCALE:GREGORIAN
BEGIN:VEVENT
DTSTART;VALUE=DATE:20241212
DTEND;VALUE=DATE:20241213
TRANSP:TRANSPARENT
X-MICROSOFT-CDO-ALLDAYEVENT:TRUE
SUMMARY:Holiday Maker's Market
DESCRIPTION:Grand Bank's 3rd Annual Holiday Maker's Market is here!\n\nJoin us for a festive evening of shopping from 3:00 PM to 7:00 PM at The Showroom at Grand Banks. We've curated a special group of talented local artists and makers who will be showcasing their unique\, handcrafted goods.\n\nFrom candles and quilts to handmade pottery and lotions\, our selection of artisanal products offers something for everyone on your holiday shopping list. Last year\, some of our vendors sold out in the first two hours\, so be sure to arrive early to get the best picks!\n\nSupport your local creative community and shop for your loved ones this holiday season. Don't miss out on this wonderful opportunity to find one-of-a-kind gifts and celebrate the spirit of handmade!\n\n\n\nLight food and beverage will served.
X-ALT-DESC;FMTTYPE=text/html:&nbsp\;\n<div>&nbsp\;</div>\n\n<div>\n<div>\n<div>\n<div>\n<div>\n<div>\n<div>\n<div>\n<p><strong>Grand Bank&#39\;s 3rd Annual Holiday Maker&#39\;s Market is here!</strong><br />\nJoin us for a festive evening of shopping from 3:00 PM to 7:00 PM at <em>The Showroom</em> at Grand Banks. We&rsquo\;ve curated a special group of talented local artists and makers who will be showcasing their unique\, handcrafted goods.</p>\n\n<p>From candles and quilts to handmade pottery and lotions\, our selection of artisanal products offers something for everyone on your holiday shopping list. Last year\, some of our vendors sold out in the first two hours\, so be sure to arrive early to get the best picks!</p>\n\n<p>Support your local creative community and shop for your loved ones this holiday season. Don&rsquo\;t miss out on this wonderful opportunity to find one-of-a-kind gifts and celebrate the spirit of handmade!<br />\n<br />\nLight food and beverage will served.&nbsp\;</p>\n</div>\n</div>\n</div>\n</div>\n</div>\n</div>\n</div>\n</div>\n
LOCATION:" The Showroom" At Grand Banks 7 Crafts Rd Gloucester MA
UID:e.2981.34150
SEQUENCE:3
DTSTAMP:20260424T123503Z
URL:https://business.capeannchamber.com/events/details/holiday-maker-s-market-34150
END:VEVENT

END:VCALENDAR
