BEGIN:VCALENDAR
VERSION:2.0
PRODID:-//ChamberMaster//Event Calendar 2.0//EN
METHOD:PUBLISH
X-PUBLISHED-TTL:P3D
REFRESH-INTERVAL:P3D
CALSCALE:GREGORIAN
BEGIN:VEVENT
DTSTART:20221214T210000Z
DTEND:20230102T030000Z
X-MICROSOFT-CDO-ALLDAYEVENT:FALSE
SUMMARY:Holiday Lights & Illumination Celebration at Hammond Castle Museum
DESCRIPTION:Step into the holiday season as streaming Christmas music\, twinkling lights & festive projections create a magical holiday wonderland!\n\n Hammond Castle Museum is proud to present our second annual\, holiday illumination as part of the Winter Lights Celebration hosted by Discover Gloucester.\n\n Friday\, November 25th to Sunday\, January 1st from 4:00pm to 10:00pm \n\nGuests may enjoy access to our iconic 12th- and 13th-century arches\, Bell Tower\, and Drawbridge.\n\nNo reservations are required to enjoy this outdoor\, holiday illumination program.\n\nOn Thursday nights throughout December\, the Museum will open to offer Candlelight Guided Tours.\n\nCandlelight Tour ticket reservations should be made in advance and are available here. \n\nDonations are always greatly appreciated and may be made in advance of your visit by clicking here.\n\n\nThis event is generously sponsored in part by Cape Ann Savings Bank.\n\n\n\nPhoto by CMO Photography Studio
X-ALT-DESC;FMTTYPE=text/html:<div>\n<h2 style="text-align:center"><em>Step into the holiday season as streaming Christmas music\, twinkling lights &amp\; festive projections create a magical holiday wonderland!</em></h2>\n\n<p style="text-align:center">&nbsp\;Hammond Castle Museum is proud to present our second annual\, holiday illumination as part of the Winter Lights Celebration hosted by<a href="https://www.discovergloucester.com/" rel="noopener" style="box-sizing: border-box\; color: rgb(188\, 32\, 37)\; text-decoration-line: none\; background-color: transparent\; border-bottom: 1px solid var(--tec-color-link-accent)\; transition: var(--tec-transition-color)\;" target="_blank">&nbsp\;Discover Gloucester</a>.</p>\n\n<p style="text-align:center">&nbsp\;Friday\, November 25th to Sunday\, January 1st from 4:00pm to 10:00pm&nbsp\;</p>\n\n<p style="text-align:center">Guests may enjoy access to our iconic 12th- and 13th-century arches\, Bell Tower\, and Drawbridge.</p>\n\n<p style="text-align:center">No reservations are required to enjoy this outdoor\, holiday illumination program.</p>\n\n<p style="text-align:center">On Thursday nights throughout December\, the Museum will open to offer Candlelight Guided Tours.</p>\n\n<p style="text-align:center">Candlelight Tour ticket reservations should be made in advance and are&nbsp\;<a href="http://bit.ly/3zTUqXD" rel="noopener" style="box-sizing: border-box\; color: rgb(188\, 32\, 37)\; text-decoration-line: none\; background-color: transparent\; border-bottom: 1px solid var(--tec-color-link-accent)\; transition: var(--tec-transition-color)\;" target="_blank">available here.&nbsp\;</a></p>\n\n<p style="text-align:center">Donations are always greatly appreciated and may be made in advance of your visit by&nbsp\;<a href="https://hammondcastle.donation.veevartapp.com/donation/view/home" style="box-sizing: border-box\; color: rgb(188\, 32\, 37)\; text-decoration-line: none\; background-color: transparent\; border-bottom: 1px solid var(--tec-color-link-accent)\; transition: var(--tec-transition-color)\;">clicking here</a>.</p>\n</div>\n\n<p style="text-align: center\;"><em><strong>This event is generously sponsored in part by Cape Ann Savings Bank.</strong><br />\n<br />\nPhoto by CMO Photography Studio</em></p>\n
LOCATION:Hammond Castle Museum 80 Hesperus Avenue Gloucester\, MA
UID:e.2981.24619
SEQUENCE:3
DTSTAMP:20260422T110408Z
URL:https://business.capeannchamber.com/events/details/holiday-lights-illumination-celebration-at-hammond-castle-museum-24619
END:VEVENT

END:VCALENDAR
