BEGIN:VCALENDAR
VERSION:2.0
PRODID:-//ChamberMaster//Event Calendar 2.0//EN
METHOD:PUBLISH
X-PUBLISHED-TTL:P3D
REFRESH-INTERVAL:P3D
CALSCALE:GREGORIAN
BEGIN:VEVENT
DTSTART:20241215T190000Z
DTEND:20241215T200000Z
X-MICROSOFT-CDO-ALLDAYEVENT:FALSE
SUMMARY:Holiday Concert-Rockport Legion Band
DESCRIPTION:Holiday Concert  w/Rockport Legion Band featuring the Rockport Elementary School Chorus\, led by Kaitlyn Shaw-Reese. The church is handicapped-accessible from the 12 School St. entrance..\n\nThe tentative program:\n\n\n	\n		\n		\n	\n	\n		\n			Piece\n			Composer/Arranger\n		\n	\n	\n		\n			National Anthem\n			Henry Fillmore\n		\n		\n			A Christmas Festival\n			Leroy Anderson\n		\n		\n			Selections from The Nutcracker Suite\n			P. Tschaikovsky\, arr. James Curnow\n		\n		\n			On Christmas Day in the Morning\n			Trad.\, arr Robert Longfield\n		\n		\n			Hanukkah Festival\n			Trad.\, arr. Chris M. Bernotas\n		\n		\n			Christmas Swings\n			Arr. Johnnie Vinson\n		\n		\n			Fantasia for Christmas (Carol of the Bells)\n			Elliot Del Borgo\n		\n		\n			A Charlie Brown Christmas\n			Vince Guarakdi/Lee Mendelson\, arr. Carl Strommen\n		\n		\n			The Christmas Song\n			Mel Torme/R. Wells\n		\n		\n			We Need a Little Christmas\, from Mame\n			Jerry Herman\, arr. Jay Bocock\n		\n		\n			Selections TBD\n			Rockport Elementary School Chorus\n		\n		\n			Selections from The Polar Express\n			Glen Ballard/Allen Silvestri\, arr. M. Story\n		\n		\n			Let's All Sing for Christmas sing-along\n			 \n		\n		\n			Sleigh Ride\n			Leroy Anderson
X-ALT-DESC;FMTTYPE=text/html:<p style="border: 0px\; font-family: Lora\; font-size: 14px\; margin: 0px 0px 1em\; outline: 0px\; padding: 0px\; vertical-align: baseline\; box-sizing: border-box\; color: rgb(68\, 68\, 68)\;">Holiday Concert&nbsp\; w/Rockport Legion&nbsp\;Band featuring the Rockport Elementary School Chorus\, led by Kaitlyn Shaw-Reese. The church is handicapped-accessible from the 12 School St. entrance..</p>\n\n<p style="border: 0px\; font-family: Lora\; font-size: 14px\; margin: 1em 0px 0px\; outline: 0px\; padding: 0px\; vertical-align: baseline\; box-sizing: border-box\; color: rgb(68\, 68\, 68)\;">The tentative program:</p>\n\n<table border="0" cellpadding="0" cellspacing="0" style="border-width: 0px 0px 1px\; border-top-style: initial\; border-right-style: initial\; border-bottom-style: solid\; border-left-style: initial\; border-top-color: initial\; border-right-color: initial\; border-bottom-color: rgb(237\, 237\, 237)\; border-left-color: initial\; border-image: initial\; font-family: Lora\; font-size: 14px\; margin: 0px auto 20px\; outline: 0px\; padding: 0px\; vertical-align: baseline\; border-collapse: collapse\; border-spacing: 0px\; width: 800px\; line-height: 2\; color: rgb(68\, 68\, 68)\; max-width: 800px\;">\n	<colgroup style="box-sizing: border-box\;">\n		<col span="1" style="box-sizing: border-box\; width: 320px\;" />\n		<col span="1" style="box-sizing: border-box\; width: 480px\;" />\n	</colgroup>\n	<thead style="border: 0px\; font-family: inherit\; font-style: inherit\; font-weight: inherit\; margin: 0px\; outline: 0px\; padding: 0px\; vertical-align: baseline\; box-sizing: border-box\;">\n		<tr style="border: 0px\; font-family: inherit\; font-style: inherit\; font-weight: inherit\; margin: 0px\; outline: 0px\; padding: 0px\; vertical-align: baseline\; box-sizing: border-box\;">\n			<th style="border: 0px\; font-family: inherit\; font-style: inherit\; margin: 0px\; outline: 0px\; padding: 0px\; vertical-align: baseline\; text-align: left\; box-sizing: border-box\;">Piece</th>\n			<th style="border: 0px\; font-family: inherit\; font-style: inherit\; margin: 0px\; outline: 0px\; padding: 0px\; vertical-align: baseline\; text-align: left\; box-sizing: border-box\;">Composer/Arranger</th>\n		</tr>\n	</thead>\n	<tbody style="border: 0px\; font-family: inherit\; font-style: inherit\; font-weight: inherit\; margin: 0px\; outline: 0px\; padding: 0px\; vertical-align: baseline\; box-sizing: border-box\;">\n		<tr style="border: 0px\; font-family: inherit\; font-style: inherit\; font-weight: inherit\; margin: 0px\; outline: 0px\; padding: 0px\; vertical-align: baseline\; box-sizing: border-box\;">\n			<td style="border: 0px\; font-family: inherit\; font-style: inherit\; margin: 0px\; outline: 0px\; padding: 0px\; vertical-align: baseline\; box-sizing: border-box\;">National Anthem</td>\n			<td style="border: 0px\; font-family: inherit\; font-style: inherit\; margin: 0px\; outline: 0px\; padding: 0px\; vertical-align: baseline\; box-sizing: border-box\;">Henry Fillmore</td>\n		</tr>\n		<tr style="border: 0px\; font-family: inherit\; font-style: inherit\; font-weight: inherit\; margin: 0px\; outline: 0px\; padding: 0px\; vertical-align: baseline\; box-sizing: border-box\;">\n			<td style="border: 0px\; font-family: inherit\; font-style: inherit\; margin: 0px\; outline: 0px\; padding: 0px\; vertical-align: baseline\; box-sizing: border-box\;">A Christmas Festival</td>\n			<td style="border: 0px\; font-family: inherit\; font-style: inherit\; margin: 0px\; outline: 0px\; padding: 0px\; vertical-align: baseline\; box-sizing: border-box\;">Leroy Anderson</td>\n		</tr>\n		<tr style="border: 0px\; font-family: inherit\; font-style: inherit\; font-weight: inherit\; margin: 0px\; outline: 0px\; padding: 0px\; vertical-align: baseline\; box-sizing: border-box\;">\n			<td style="border: 0px\; font-family: inherit\; font-style: inherit\; margin: 0px\; outline: 0px\; padding: 0px\; vertical-align: baseline\; box-sizing: border-box\;">Selections from&nbsp\;<em style="border: 0px\; font-family: inherit\; font-weight: inherit\; margin: 0px\; outline: 0px\; padding: 0px\; vertical-align: baseline\; box-sizing: border-box\;">The Nutcracker Suite</em></td>\n			<td style="border: 0px\; font-family: inherit\; font-style: inherit\; margin: 0px\; outline: 0px\; padding: 0px\; vertical-align: baseline\; box-sizing: border-box\;">P. Tschaikovsky\, arr. James Curnow</td>\n		</tr>\n		<tr style="border: 0px\; font-family: inherit\; font-style: inherit\; font-weight: inherit\; margin: 0px\; outline: 0px\; padding: 0px\; vertical-align: baseline\; box-sizing: border-box\;">\n			<td style="border: 0px\; font-family: inherit\; font-style: inherit\; margin: 0px\; outline: 0px\; padding: 0px\; vertical-align: baseline\; box-sizing: border-box\;">On Christmas Day in the Morning</td>\n			<td style="border: 0px\; font-family: inherit\; font-style: inherit\; margin: 0px\; outline: 0px\; padding: 0px\; vertical-align: baseline\; box-sizing: border-box\;">Trad.\, arr Robert Longfield</td>\n		</tr>\n		<tr style="border: 0px\; font-family: inherit\; font-style: inherit\; font-weight: inherit\; margin: 0px\; outline: 0px\; padding: 0px\; vertical-align: baseline\; box-sizing: border-box\;">\n			<td style="border: 0px\; font-family: inherit\; font-style: inherit\; margin: 0px\; outline: 0px\; padding: 0px\; vertical-align: baseline\; box-sizing: border-box\;">Hanukkah Festival</td>\n			<td style="border: 0px\; font-family: inherit\; font-style: inherit\; margin: 0px\; outline: 0px\; padding: 0px\; vertical-align: baseline\; box-sizing: border-box\;">Trad.\, arr. Chris M. Bernotas</td>\n		</tr>\n		<tr style="border: 0px\; font-family: inherit\; font-style: inherit\; font-weight: inherit\; margin: 0px\; outline: 0px\; padding: 0px\; vertical-align: baseline\; box-sizing: border-box\;">\n			<td style="border: 0px\; font-family: inherit\; font-style: inherit\; margin: 0px\; outline: 0px\; padding: 0px\; vertical-align: baseline\; box-sizing: border-box\;">Christmas Swings</td>\n			<td style="border: 0px\; font-family: inherit\; font-style: inherit\; margin: 0px\; outline: 0px\; padding: 0px\; vertical-align: baseline\; box-sizing: border-box\;">Arr. Johnnie Vinson</td>\n		</tr>\n		<tr style="border: 0px\; font-family: inherit\; font-style: inherit\; font-weight: inherit\; margin: 0px\; outline: 0px\; padding: 0px\; vertical-align: baseline\; box-sizing: border-box\;">\n			<td style="border: 0px\; font-family: inherit\; font-style: inherit\; margin: 0px\; outline: 0px\; padding: 0px\; vertical-align: baseline\; box-sizing: border-box\;">Fantasia for Christmas (Carol of the Bells)</td>\n			<td style="border: 0px\; font-family: inherit\; font-style: inherit\; margin: 0px\; outline: 0px\; padding: 0px\; vertical-align: baseline\; box-sizing: border-box\;">Elliot Del Borgo</td>\n		</tr>\n		<tr style="border: 0px\; font-family: inherit\; font-style: inherit\; font-weight: inherit\; margin: 0px\; outline: 0px\; padding: 0px\; vertical-align: baseline\; box-sizing: border-box\;">\n			<td style="border: 0px\; font-family: inherit\; font-style: inherit\; margin: 0px\; outline: 0px\; padding: 0px\; vertical-align: baseline\; box-sizing: border-box\;">A Charlie Brown Christmas</td>\n			<td style="border: 0px\; font-family: inherit\; font-style: inherit\; margin: 0px\; outline: 0px\; padding: 0px\; vertical-align: baseline\; box-sizing: border-box\;">Vince Guarakdi/Lee Mendelson\, arr. Carl Strommen</td>\n		</tr>\n		<tr style="border: 0px\; font-family: inherit\; font-style: inherit\; font-weight: inherit\; margin: 0px\; outline: 0px\; padding: 0px\; vertical-align: baseline\; box-sizing: border-box\;">\n			<td style="border: 0px\; font-family: inherit\; font-style: inherit\; margin: 0px\; outline: 0px\; padding: 0px\; vertical-align: baseline\; box-sizing: border-box\;">The Christmas Song</td>\n			<td style="border: 0px\; font-family: inherit\; font-style: inherit\; margin: 0px\; outline: 0px\; padding: 0px\; vertical-align: baseline\; box-sizing: border-box\;">Mel Torme/R. Wells</td>\n		</tr>\n		<tr style="border: 0px\; font-family: inherit\; font-style: inherit\; font-weight: inherit\; margin: 0px\; outline: 0px\; padding: 0px\; vertical-align: baseline\; box-sizing: border-box\;">\n			<td style="border: 0px\; font-family: inherit\; font-style: inherit\; margin: 0px\; outline: 0px\; padding: 0px\; vertical-align: baseline\; box-sizing: border-box\;">We Need a Little Christmas\, from Mame</td>\n			<td style="border: 0px\; font-family: inherit\; font-style: inherit\; margin: 0px\; outline: 0px\; padding: 0px\; vertical-align: baseline\; box-sizing: border-box\;">Jerry Herman\, arr. Jay Bocock</td>\n		</tr>\n		<tr style="border: 0px\; font-family: inherit\; font-style: inherit\; font-weight: inherit\; margin: 0px\; outline: 0px\; padding: 0px\; vertical-align: baseline\; box-sizing: border-box\;">\n			<td style="border: 0px\; font-family: inherit\; font-style: inherit\; margin: 0px\; outline: 0px\; padding: 0px\; vertical-align: baseline\; box-sizing: border-box\;"><em style="border: 0px\; font-family: inherit\; font-weight: inherit\; margin: 0px\; outline: 0px\; padding: 0px\; vertical-align: baseline\; box-sizing: border-box\;">Selections TBD</em></td>\n			<td style="border: 0px\; font-family: inherit\; font-style: inherit\; margin: 0px\; outline: 0px\; padding: 0px\; vertical-align: baseline\; box-sizing: border-box\;"><em style="border: 0px\; font-family: inherit\; font-weight: inherit\; margin: 0px\; outline: 0px\; padding: 0px\; vertical-align: baseline\; box-sizing: border-box\;">Rockport Elementary School Chorus</em></td>\n		</tr>\n		<tr style="border: 0px\; font-family: inherit\; font-style: inherit\; font-weight: inherit\; margin: 0px\; outline: 0px\; padding: 0px\; vertical-align: baseline\; box-sizing: border-box\;">\n			<td style="border: 0px\; font-family: inherit\; font-style: inherit\; margin: 0px\; outline: 0px\; padding: 0px\; vertical-align: baseline\; box-sizing: border-box\;">Selections from&nbsp\;<em style="border: 0px\; font-family: inherit\; font-weight: inherit\; margin: 0px\; outline: 0px\; padding: 0px\; vertical-align: baseline\; box-sizing: border-box\;">The Polar Express</em></td>\n			<td style="border: 0px\; font-family: inherit\; font-style: inherit\; margin: 0px\; outline: 0px\; padding: 0px\; vertical-align: baseline\; box-sizing: border-box\;">Glen Ballard/Allen Silvestri\, arr. M. Story</td>\n		</tr>\n		<tr style="border: 0px\; font-family: inherit\; font-style: inherit\; font-weight: inherit\; margin: 0px\; outline: 0px\; padding: 0px\; vertical-align: baseline\; box-sizing: border-box\;">\n			<td style="border: 0px\; font-family: inherit\; font-style: inherit\; margin: 0px\; outline: 0px\; padding: 0px\; vertical-align: baseline\; box-sizing: border-box\;">Let&rsquo\;s All Sing for Christmas sing-along</td>\n			<td style="border: 0px\; font-family: inherit\; font-style: inherit\; margin: 0px\; outline: 0px\; padding: 0px\; vertical-align: baseline\; box-sizing: border-box\;">&nbsp\;</td>\n		</tr>\n		<tr style="border: 0px\; font-family: inherit\; font-style: inherit\; font-weight: inherit\; margin: 0px\; outline: 0px\; padding: 0px\; vertical-align: baseline\; box-sizing: border-box\;">\n			<td style="border: 0px\; font-family: inherit\; font-style: inherit\; margin: 0px\; outline: 0px\; padding: 0px\; vertical-align: baseline\; box-sizing: border-box\;">Sleigh Ride</td>\n			<td style="border: 0px\; font-family: inherit\; font-style: inherit\; margin: 0px\; outline: 0px\; padding: 0px\; vertical-align: baseline\; box-sizing: border-box\;">Leroy Anderson</td>\n		</tr>\n	</tbody>\n</table>\n
LOCATION:First Congregational Church
UID:e.2981.34203
SEQUENCE:3
DTSTAMP:20260424T124058Z
URL:https://business.capeannchamber.com/events/details/holiday-concert-rockport-legion-band-34203
END:VEVENT

END:VCALENDAR
