BEGIN:VCALENDAR
VERSION:2.0
PRODID:-//ChamberMaster//Event Calendar 2.0//EN
METHOD:PUBLISH
X-PUBLISHED-TTL:P3D
REFRESH-INTERVAL:P3D
CALSCALE:GREGORIAN
BEGIN:VEVENT
DTSTART:20220729T150000Z
DTEND:20220729T160000Z
X-MICROSOFT-CDO-ALLDAYEVENT:FALSE
SUMMARY:History of Medieval Arms & Armor
DESCRIPTION:11am & 1pm Sessions. \n\n This program will be offered on: July 29th &  August 29th\n\nJoin Curatorial Director John Leysath for "Arms and Armor\," a presentation on the history and engineering of medieval European armaments. On display will be a number of helmets and other armor pieces\, as well as weaponry from the medieval to the Renaissance periods.\n\nThis hour-long presentation will cover the evolution of armor and weapons throughout the Middle Ages as well as the science behind their construction and use. There will also be a discussion about the career paths of both knights and blacksmiths\, and a demonstration of how their equipment was cleaned and maintained. At the conclusion of the program there will be a short question and answer session.\n\n \n\nAdvance registration required. Reserve your tickets here! \n\n*This ticket grants you access to the Arms and Armor presentation which will be held outside on the ocean facing lawn as well as access to the Museum Shop. A separate tour ticket will be required to enter beyond the Museum Shop for a guided or self-guided tour. If you wish to tour Hammond Castle Museum at the conclusion of this program\, ticket holders may purchase Self-Guided Tour tickets in the Museum Shop at a 20% discount.  All proceeds from this educational program support additional educational programs and ongoing Museum restorations.
X-ALT-DESC;FMTTYPE=text/html:<h3><em>11am &amp\; 1pm Sessions.&nbsp\;</em></h3>\n\n<p>&nbsp\;This program will be offered on: July 29th &amp\;&nbsp\; August 29th</p>\n\n<p>Join Curatorial Director John Leysath for &ldquo\;Arms and Armor\,&rdquo\; a presentation on the history and engineering of medieval European armaments. On display will be a number of helmets and other armor pieces\, as well as weaponry from the medieval to the Renaissance periods.</p>\n\n<p>This hour-long presentation will cover the evolution of armor and weapons throughout the Middle Ages as well as the science behind their construction and use. There will also be a discussion about the career paths of both knights and blacksmiths\, and a demonstration of how their equipment was cleaned and maintained. At the conclusion of the program there will be a short question and answer session.</p>\n\n<p>&nbsp\;</p>\n\n<p style="text-align:center">Advance registration required.<a href="https://hammondcastle.ticketing.veevartapp.com/tickets/view/list/the-history-of-medieval-arms-armor" rel="noopener" style="box-sizing: border-box\; color: rgb(188\, 32\, 37)\; text-decoration-line: none\; background-color: transparent\;" target="_blank">&nbsp\;Reserve your tickets here!&nbsp\;</a></p>\n\n<p><em>*This ticket grants you access to the Arms and Armor presentation which will be held outside on the ocean facing lawn as well as access to the Museum Shop. A separate tour ticket will be required to enter beyond the Museum Shop for a guided or self-guided tour. If you wish to tour Hammond Castle Museum at the conclusion of this program\, ticket holders may purchase Self-Guided Tour tickets in the Museum Shop at a 20% discount.&nbsp\; All proceeds from this educational program support additional educational programs and ongoing Museum restorations.</em></p>\n
LOCATION:Hammond Castle Museum 80 Hesperus Avenue Gloucester\, MA 01930
UID:e.2981.22836
SEQUENCE:3
DTSTAMP:20260424T164741Z
URL:https://business.capeannchamber.com/events/details/history-of-medieval-arms-armor-07-29-2022-22836
END:VEVENT

END:VCALENDAR
