BEGIN:VCALENDAR
VERSION:2.0
PRODID:-//ChamberMaster//Event Calendar 2.0//EN
METHOD:PUBLISH
X-PUBLISHED-TTL:P3D
REFRESH-INTERVAL:P3D
CALSCALE:GREGORIAN
BEGIN:VEVENT
DTSTART:20251018T140000Z
DTEND:20251106T220000Z
X-MICROSOFT-CDO-ALLDAYEVENT:FALSE
SUMMARY:Heritage - Cassie Doyon Solo Show\, Rockport Art Association & Museum
DESCRIPTION:Heritage - Cassie Doyon Solo Show\n\nRockport Art Association & Museum\n\nOctober 18 - November 6\, 2025\n\nReception: Sunday\, October 19\, 2025\, 1-3 PM
X-ALT-DESC;FMTTYPE=text/html:Heritage - Cassie Doyon Solo Show<br />\nRockport Art Association &amp\; Museum<br />\nOctober 18 - November 6\, 2025<br />\n<strong>Reception: Sunday\, October 19\, 2025\, 1-3 PM</strong>
LOCATION:Rockport Art Association & Museum 12 Main Street Rockport\, MA 01966
UID:e.2981.45168
SEQUENCE:3
DTSTAMP:20260425T025159Z
URL:https://business.capeannchamber.com/events/details/heritage-cassie-doyon-solo-show-rockport-art-association-museum-45168
END:VEVENT

END:VCALENDAR
