BEGIN:VCALENDAR
VERSION:2.0
PRODID:-//ChamberMaster//Event Calendar 2.0//EN
METHOD:PUBLISH
X-PUBLISHED-TTL:P3D
REFRESH-INTERVAL:P3D
CALSCALE:GREGORIAN
BEGIN:VEVENT
DTSTART:20241201T200000Z
DTEND:20241201T223000Z
X-MICROSOFT-CDO-ALLDAYEVENT:FALSE
SUMMARY:Heather Pierson – A Charlie Brown Christmas at Old Sloop Presents
DESCRIPTION:Heather Pierson is a New Hampshire based singer/songwriter\, pianist\, song leader\, and performer with a passion for cultivating joy\, both onstage and off. With a toe in each of the realms of New Orleans jazz\, blues\, and folk\, her multi-genre songwriting places her in a category all her own\, one honed by decades of diligent practice and curious exploration. Her trio\, with Shawn Nadeau on bass/vocals and Craig Bryan on percussion/vocals\, performs a rich variety of Heather's originals\, jazz and blues standards\, and unique re-workings of familiar classics. Their live performances feature their brilliant musicianship\, stirring three-part vocal harmonies\, boundless joy\, and a desire to share from the heart.\n\nIn their annual December offering\, The Heather Pierson Trio performs the entirety of the 'A Charlie Brown Christmas' album as recorded by the Vince Guaraldi Trio\, as well as other Guaraldi compositions and holiday favorites. The musical score for 'A Charlie Brown Christmas'\, composed by the late Vince Guaraldi and first broadcast in December of 1965\, is just as poignant and touching as the story and includes the hugely popular hit 'Linus and Lucy'. Guaraldi's gentle jazz riffs established musical trademarks that\, to this day\, still prompt smiles of recognition.
X-ALT-DESC;FMTTYPE=text/html:<p><a href="https://heatherpierson.com/" rel="noopener" target="_blank">Heather Pierson</a> is a New Hampshire based singer/songwriter\, pianist\, song leader\, and performer with a passion for cultivating joy\, both onstage and off. With a toe in each of the realms of New Orleans jazz\, blues\, and folk\, her multi-genre songwriting places her in a category all her own\, one honed by decades of diligent practice and curious exploration. Her trio\, with Shawn Nadeau on bass/vocals and Craig Bryan on percussion/vocals\, performs a rich variety of Heather&rsquo\;s originals\, jazz and blues standards\, and unique re-workings of familiar classics. Their live performances feature their brilliant musicianship\, stirring three-part vocal harmonies\, boundless joy\, and a desire to share from the heart.</p>\n\n<p>In their annual December offering\, The Heather Pierson Trio performs the entirety of the &lsquo\;A Charlie Brown Christmas&rsquo\; album as recorded by the Vince Guaraldi Trio\, as well as other Guaraldi compositions and holiday favorites. The musical score for &lsquo\;A Charlie Brown Christmas&rsquo\;\, composed by the late Vince Guaraldi and first broadcast in December of 1965\, is just as poignant and touching as the story and includes the hugely popular hit &lsquo\;Linus and Lucy&rsquo\;. Guaraldi&rsquo\;s gentle jazz riffs established musical trademarks that\, to this day\, still prompt smiles of recognition.</p>\n
LOCATION:Old Sloop Presents First Congregational Church 12 School St Rockport\, MA 01966
UID:e.2981.32721
SEQUENCE:3
DTSTAMP:20260424T152712Z
URL:https://business.capeannchamber.com/events/details/heather-pierson-a-charlie-brown-christmas-at-old-sloop-presents-32721
END:VEVENT

END:VCALENDAR
