BEGIN:VCALENDAR
VERSION:2.0
PRODID:-//ChamberMaster//Event Calendar 2.0//EN
METHOD:PUBLISH
X-PUBLISHED-TTL:P3D
REFRESH-INTERVAL:P3D
CALSCALE:GREGORIAN
BEGIN:VEVENT
DTSTART:20221022T000000Z
DTEND:20221022T020000Z
X-MICROSOFT-CDO-ALLDAYEVENT:FALSE
SUMMARY:Heather Maloney at Shalin Liu
DESCRIPTION:Dipping toes in the waters of folk\, indie rock and pop for the last decade\, Heather Maloney remains a restless musical spirit.  The Massachusetts-based "writer song-singer" makes her Rockport debut on the heels of her new live record\, No Shortcuts.
X-ALT-DESC;FMTTYPE=text/html:<span style="background-color:rgb(250\, 250\, 250)\; color:rgb(0\, 0\, 0)\; font-family:open sans\,helvetica neue\,helvetica\,arial\,sans-serif\; font-size:18px">Dipping toes in the waters of folk\, indie rock and pop for the last decade\, Heather Maloney remains a restless musical spirit. &nbsp\;The Massachusetts-based &ldquo\;writer song-singer&rdquo\; makes her Rockport debut on the heels of her new live record\,&nbsp\;</span><em>No Shortcuts.</em>
LOCATION:37 Main Street\, Rockport MA\, 01966
UID:e.2981.22951
SEQUENCE:3
DTSTAMP:20260424T123503Z
URL:https://business.capeannchamber.com/events/details/heather-maloney-at-shalin-liu-22951
END:VEVENT

END:VCALENDAR
