BEGIN:VCALENDAR
VERSION:2.0
PRODID:-//ChamberMaster//Event Calendar 2.0//EN
METHOD:PUBLISH
X-PUBLISHED-TTL:P3D
REFRESH-INTERVAL:P3D
CALSCALE:GREGORIAN
BEGIN:VEVENT
DTSTART:20251107T153000Z
DTEND:20251107T170000Z
X-MICROSOFT-CDO-ALLDAYEVENT:FALSE
SUMMARY:Harbor Views: The Paintings of Fitz Henry Lane Walking Tour
DESCRIPTION:Friday\, November 7\, 2025\n\n10:30 a.m.   12:00 p.m.\n\nCape Ann Museum Courtyard\, Downtown Campus\n\n27 Pleasant St\, Gloucester\, MA\, 01930\n\n$10 for CAM Members\, $20 for non-members\n\nRegistration Required\n\n\n\nDelve into the 19th century on this tour through the neighborhoods and waterfront areas that inspired the artwork of native son Fitz Henry Lane (1804-1865). Learn how Lane rose from modest beginnings in the pre-Civil War era to worldwide recognition as a marine painter and why\, even today\, numerous artists journey to Cape Ann to find inspiration in its light and beauty. \n\n\n\nStroll with a CAM Docent for about 1 1/2 hours as you loop around downtown Gloucester. Please note that some sidewalks on the tour are rugged and uneven and not all fit the width of wheelchairs or walkers.\n\n\n\nWhere to Meet?\n\nThough the Downtown Campus is currently closed for renovations until the spring of 2026\, the tour will gather at the courtyard attached to the Museum on 27 Pleasant Street. Tours are light rain or shine.\n\n\n\nPhoto Credit: CAM docent leading walking tour\, CAM staff photo.
X-ALT-DESC;FMTTYPE=text/html:Friday\, November 7\, 2025<br />\n10:30 a.m. &ndash\; 12:00 p.m.<br />\nCape Ann Museum Courtyard\, Downtown Campus<br />\n27 Pleasant St\, Gloucester\, MA\, 01930<br />\n$10 for CAM Members\, $20 for non-members<br />\nRegistration Required<br />\n<br />\nDelve into the 19th century on this tour through the neighborhoods and waterfront areas that inspired the artwork of native son Fitz Henry Lane (1804-1865). Learn how Lane rose from modest beginnings in the pre-Civil War era to worldwide recognition as a marine painter and why\, even today\, numerous artists journey to Cape Ann to find inspiration in its light and beauty.&nbsp\;<br />\n<br />\nStroll with a CAM Docent for about 1 1/2 hours as you loop around downtown Gloucester. Please note that some sidewalks on the tour are rugged and uneven and not all fit the width of wheelchairs or walkers.<br />\n<br />\nWhere to Meet?<br />\nThough the Downtown Campus is currently closed for renovations until the spring of 2026\, the tour will gather at the courtyard attached to the Museum on 27 Pleasant Street. Tours are light rain or shine.<br />\n<br />\nPhoto Credit: CAM docent leading walking tour\, CAM staff photo.
LOCATION:Cape Ann Museum Courtyard\, Downtown Campus 27 Pleasant St\, Gloucester\, MA\, 01930
UID:e.2981.45138
SEQUENCE:3
DTSTAMP:20260425T035803Z
URL:https://business.capeannchamber.com/events/details/harbor-views-the-paintings-of-fitz-henry-lane-walking-tour-11-07-2025-45138
END:VEVENT

END:VCALENDAR
