BEGIN:VCALENDAR
VERSION:2.0
PRODID:-//ChamberMaster//Event Calendar 2.0//EN
METHOD:PUBLISH
X-PUBLISHED-TTL:P3D
REFRESH-INTERVAL:P3D
CALSCALE:GREGORIAN
BEGIN:VEVENT
DTSTART:20250807T220000Z
DTEND:20250808T013000Z
X-MICROSOFT-CDO-ALLDAYEVENT:FALSE
SUMMARY:Harbor Loop Concerts
DESCRIPTION:The Harbor Loop Summer Concert Series in Gloucester\, MA is a fun\, free\, family-friendly event all can enjoy. Live Music every Thursday from 6 - 9:30 pm on the water at 1 Harbor Loop Gloucester behind the Fitz Hugh Lane House during Culture Splash.\n\n\n\nJuly 10th\n\nOpener: All Good Band\n\nHeadliner: Dire Wolf\n\nJuly 17th\n\nOpener: Jim 'N' Tonic\n\nHeadliner: Swampanova\n\nJuly 24th\n\nOpener: Acoustic Solo: Juliet Hawkins\n\nHeadliner: Dubtone Orchestra\n\nJuly 31st\n\nOpener: Young Musician Highlight: No Explanation\n\nHeadliner: Krew de Groove\n\nAugust 7th\n\nOpener: Young Musician Highlight: Maeve + Friends\n\nHeadliner: Back Eddy\n\nAugust 14th\n\nOpener: Lense Acoustic Duo: Sam + James\n\nHeadliner: Space Moose\n\nAugust 21st\n\nOpener: Acoustic Duo: Melody Mattson + Jessica Cote\n\nHeadliner: Massive Profit\n\nAugust 28th\n\nOpener: Acoustic Duo: Wannabe Teenagers\n\nHeadliner: Garfish
X-ALT-DESC;FMTTYPE=text/html:<p style="box-sizing: border-box\; hyphens: auto\; overflow-wrap: break-word\; font-feature-settings: &quot\;liga&quot\;\, &quot\;dlig&quot\;\; margin-bottom: 16px\; font-size: 18px\; line-height: 1.5\; color: rgb(20\, 24\, 39)\; font-family: &quot\;Helvetica Neue&quot\;\, Helvetica\, -apple-system\, BlinkMacSystemFont\, Roboto\, Arial\, sans-serif\; word-break: auto-phrase !important\;"><span style="color: rgb(20\, 24\, 39)\; font-family: &quot\;Helvetica Neue&quot\;\, Helvetica\, -apple-system\, BlinkMacSystemFont\, Roboto\, Arial\, sans-serif\; font-size: 18px\;">The Harbor Loop Summer Concert Series in Gloucester\, MA is a fun\, free\, family-friendly event all can enjoy. Live Music every Thursday from 6 - 9:30 pm on the water at 1 Harbor Loop Gloucester behind the Fitz Hugh Lane House during Culture Splash.</span><br />\n<br />\n<strong>July 10th</strong><br style="box-sizing: border-box\;" />\nOpener: All Good Band<br style="box-sizing: border-box\;" />\nHeadliner: Dire Wolf</p>\n\n<p style="box-sizing: border-box\; hyphens: auto\; overflow-wrap: break-word\; font-feature-settings: &quot\;liga&quot\;\, &quot\;dlig&quot\;\; margin-bottom: 16px\; font-size: 18px\; line-height: 1.5\; color: rgb(20\, 24\, 39)\; font-family: &quot\;Helvetica Neue&quot\;\, Helvetica\, -apple-system\, BlinkMacSystemFont\, Roboto\, Arial\, sans-serif\; word-break: auto-phrase !important\;"><strong>July 17th</strong><br style="box-sizing: border-box\;" />\nOpener: Jim &lsquo\;N&rsquo\; Tonic<br style="box-sizing: border-box\;" />\nHeadliner: Swampanova</p>\n\n<p style="box-sizing: border-box\; hyphens: auto\; overflow-wrap: break-word\; font-feature-settings: &quot\;liga&quot\;\, &quot\;dlig&quot\;\; margin-bottom: 16px\; font-size: 18px\; line-height: 1.5\; color: rgb(20\, 24\, 39)\; font-family: &quot\;Helvetica Neue&quot\;\, Helvetica\, -apple-system\, BlinkMacSystemFont\, Roboto\, Arial\, sans-serif\; word-break: auto-phrase !important\;"><strong>July 24th</strong><br style="box-sizing: border-box\;" />\nOpener: Acoustic Solo: Juliet Hawkins<br style="box-sizing: border-box\;" />\nHeadliner: Dubtone Orchestra</p>\n\n<p style="box-sizing: border-box\; hyphens: auto\; overflow-wrap: break-word\; font-feature-settings: &quot\;liga&quot\;\, &quot\;dlig&quot\;\; margin-bottom: 16px\; font-size: 18px\; line-height: 1.5\; color: rgb(20\, 24\, 39)\; font-family: &quot\;Helvetica Neue&quot\;\, Helvetica\, -apple-system\, BlinkMacSystemFont\, Roboto\, Arial\, sans-serif\; word-break: auto-phrase !important\;"><strong>July 31st</strong><br style="box-sizing: border-box\;" />\nOpener: Young Musician Highlight: No Explanation<br style="box-sizing: border-box\;" />\nHeadliner: Krew de Groove</p>\n\n<p style="box-sizing: border-box\; hyphens: auto\; overflow-wrap: break-word\; font-feature-settings: &quot\;liga&quot\;\, &quot\;dlig&quot\;\; margin-bottom: 16px\; font-size: 18px\; line-height: 1.5\; color: rgb(20\, 24\, 39)\; font-family: &quot\;Helvetica Neue&quot\;\, Helvetica\, -apple-system\, BlinkMacSystemFont\, Roboto\, Arial\, sans-serif\; word-break: auto-phrase !important\;"><strong>August 7th</strong><br style="box-sizing: border-box\;" />\nOpener: Young Musician Highlight: Maeve + Friends<br style="box-sizing: border-box\;" />\nHeadliner: Back Eddy</p>\n\n<p style="box-sizing: border-box\; hyphens: auto\; overflow-wrap: break-word\; font-feature-settings: &quot\;liga&quot\;\, &quot\;dlig&quot\;\; margin-bottom: 16px\; font-size: 18px\; line-height: 1.5\; color: rgb(20\, 24\, 39)\; font-family: &quot\;Helvetica Neue&quot\;\, Helvetica\, -apple-system\, BlinkMacSystemFont\, Roboto\, Arial\, sans-serif\; word-break: auto-phrase !important\;"><strong>August 14th</strong><br style="box-sizing: border-box\;" />\nOpener: Lense Acoustic Duo: Sam + James<br style="box-sizing: border-box\;" />\nHeadliner: Space Moose</p>\n\n<p style="box-sizing: border-box\; hyphens: auto\; overflow-wrap: break-word\; font-feature-settings: &quot\;liga&quot\;\, &quot\;dlig&quot\;\; margin-bottom: 16px\; font-size: 18px\; line-height: 1.5\; color: rgb(20\, 24\, 39)\; font-family: &quot\;Helvetica Neue&quot\;\, Helvetica\, -apple-system\, BlinkMacSystemFont\, Roboto\, Arial\, sans-serif\; word-break: auto-phrase !important\;"><strong>August 21st</strong><br style="box-sizing: border-box\;" />\nOpener: Acoustic Duo: Melody Mattson + Jessica Cote<br style="box-sizing: border-box\;" />\nHeadliner: Massive Profit</p>\n\n<p style="box-sizing: border-box\; hyphens: auto\; overflow-wrap: break-word\; font-feature-settings: &quot\;liga&quot\;\, &quot\;dlig&quot\;\; margin-bottom: 28px\; font-size: 18px\; line-height: 1.5\; color: rgb(20\, 24\, 39)\; font-family: &quot\;Helvetica Neue&quot\;\, Helvetica\, -apple-system\, BlinkMacSystemFont\, Roboto\, Arial\, sans-serif\; word-break: auto-phrase !important\;"><strong>August 28th</strong><br style="box-sizing: border-box\;" />\nOpener: Acoustic Duo: Wannabe Teenagers<br style="box-sizing: border-box\;" />\nHeadliner: Garfish</p>\n
LOCATION:1 Harbor Loop Gloucester behind the Fitz Hugh Lane House
UID:e.2981.37314
SEQUENCE:3
DTSTAMP:20260424T235108Z
URL:https://business.capeannchamber.com/events/details/harbor-loop-concerts-08-07-2025-37314
END:VEVENT

END:VCALENDAR
