BEGIN:VCALENDAR
VERSION:2.0
PRODID:-//ChamberMaster//Event Calendar 2.0//EN
METHOD:PUBLISH
X-PUBLISHED-TTL:P3D
REFRESH-INTERVAL:P3D
CALSCALE:GREGORIAN
BEGIN:VEVENT
DTSTART:20250616T123000Z
DTEND:20250616T210000Z
X-MICROSOFT-CDO-ALLDAYEVENT:FALSE
SUMMARY:Harbor 9 Golf Camp Sign-Ups
DESCRIPTION:Harbor 9 Golf Summer Camp 2025\n\nKeep your kids active\, learning\, and having a blast this summer - rain or shine.\n\nOur indoor golf camp is perfect for kids ages 9-13 looking to learn the game or level up their swing. Each week includes hands-on coaching\, fun games\, team challenges\, and golf etiquette - all in a cool\, weather-proof space.\n\nWeekly Sessions: July 7\, 14\, 21\, 28 & August 4\n\nMonday-Thursday | 8:30AM-12:00PM\n\n$375 per week\n\nLocation: Harbor 9 Golf - Gloucester Crossing\n\nRegister now at Harbor9golf.com
X-ALT-DESC;FMTTYPE=text/html:<p><strong>Harbor 9 Golf Summer Camp 2025</strong><br />\nKeep your kids active\, learning\, and having a blast this summer - rain or shine.</p>\n\n<p>Our indoor golf camp is perfect for kids ages 9-13 looking to learn the game or level up their swing. Each week includes hands-on coaching\, fun games\, team challenges\, and golf etiquette - all in a cool\, weather-proof space.</p>\n\n<p>Weekly Sessions: July 7\, 14\, 21\, 28 &amp\; August 4<br />\nMonday-Thursday | 8:30AM-12:00PM<br />\n$375 per week</p>\n\n<p>Location: Harbor 9 Golf - Gloucester Crossing<br />\nRegister now at <a href="http://harbor9golf.com" rel="noopener" target="_new">Harbor9golf.com</a></p>\n
LOCATION:
UID:e.2981.37254
SEQUENCE:3
DTSTAMP:20260424T211245Z
URL:https://business.capeannchamber.com/events/details/harbor-9-golf-camp-sign-ups-06-16-2025-37254
END:VEVENT

END:VCALENDAR
