BEGIN:VCALENDAR
VERSION:2.0
PRODID:-//ChamberMaster//Event Calendar 2.0//EN
METHOD:PUBLISH
X-PUBLISHED-TTL:P3D
REFRESH-INTERVAL:P3D
CALSCALE:GREGORIAN
BEGIN:VEVENT
DTSTART:20211114T220000Z
DTEND:20211114T220000Z
X-MICROSOFT-CDO-ALLDAYEVENT:FALSE
SUMMARY:Hanneke Cassel Band at Shalin Liu
DESCRIPTION:Effervescent and engaging\, Boston-based fiddler Hanneke Cassel fuses sounds from the Isle of Skye and Cape Breton with Americana grooves and musical innovations\, creating a cutting-edge acoustic sound that retains the integrity and spirit of the Scottish tradition. Her newest record\, Over the Sea to Skye was released in 2021.
X-ALT-DESC;FMTTYPE=text/html:Effervescent and engaging\, Boston-based fiddler Hanneke Cassel fuses sounds from the Isle of Skye and Cape Breton with Americana grooves and musical innovations\, creating a cutting-edge acoustic sound that retains the integrity and spirit of the Scottish tradition. Her newest record\, <em>Over the Sea to Skye</em> was released in 2021.
LOCATION:
UID:e.2981.21260
SEQUENCE:3
DTSTAMP:20260424T123647Z
URL:https://business.capeannchamber.com/events/details/hanneke-cassel-band-at-shalin-liu-21260
END:VEVENT

END:VCALENDAR
