BEGIN:VCALENDAR
VERSION:2.0
PRODID:-//ChamberMaster//Event Calendar 2.0//EN
METHOD:PUBLISH
X-PUBLISHED-TTL:P3D
REFRESH-INTERVAL:P3D
CALSCALE:GREGORIAN
BEGIN:VEVENT
DTSTART:20241214T000000Z
DTEND:20241214T020000Z
X-MICROSOFT-CDO-ALLDAYEVENT:FALSE
SUMMARY:Handel's Messiah
DESCRIPTION:For the 170th consecutive year\, Handel & Haydn Society reignites your sense of wonder and joy with the greatest story ever told in song Handel's masterful Messiah.
X-ALT-DESC;FMTTYPE=text/html:<span style="font-size:14px"><span style="background-color:rgb(250\, 250\, 250)\; color:rgb(0\, 0\, 0)\; font-family:open sans\,helvetica neue\,helvetica\,arial\,sans-serif">For the 170th consecutive year\, Handel &amp\; Haydn Society reignites your sense of wonder and joy with the greatest story ever told in song&mdash\;Handel&rsquo\;s masterful&nbsp\;</span><em>Messiah</em><span style="background-color:rgb(250\, 250\, 250)\; color:rgb(0\, 0\, 0)\; font-family:open sans\,helvetica neue\,helvetica\,arial\,sans-serif">.</span></span>
LOCATION:37 Main St\, Rockport\, MA 01966
UID:e.2981.33167
SEQUENCE:3
DTSTAMP:20260424T152503Z
URL:https://business.capeannchamber.com/events/details/handel-s-messiah-33167
END:VEVENT

END:VCALENDAR
