BEGIN:VCALENDAR
VERSION:2.0
PRODID:-//ChamberMaster//Event Calendar 2.0//EN
METHOD:PUBLISH
X-PUBLISHED-TTL:P3D
REFRESH-INTERVAL:P3D
CALSCALE:GREGORIAN
BEGIN:VEVENT
DTSTART:20251018T140000Z
DTEND:20251018T210000Z
X-MICROSOFT-CDO-ALLDAYEVENT:FALSE
SUMMARY:Hammers on Stone: The Granite Industry on Cape Ann
DESCRIPTION:For over a century\, the granite industry played a vital role in Cape Ann's economy\, providing work for men from across New England and around the world\, generating profits for those fortunate enough to share in ownership of the region's many quarries\, and contributing to the unique and authentic sense of place that characterizes Cape Ann today. On a broader scale\, the industry contributed significantly to building and transportation projects across our nation during a sustained period of growth and expansion.\n\nDrawing on the Cape Ann Museum's extensive holdings of objects and archival materials related to the industry\, most of which were gifted to the Cape Ann Museum by historian Barbara Erkkila (1918-2013)\, Hammers on Stone will explore the history of the granite trade and its impact on the community. The exhibition will examine methods of harvesting\, cutting\, and finishing stone\, as well as how granite was transported from quarry to wharf and further afield. The exhibit will also explore the lives of those involved in quarrying and consider how the industry helped shape Cape Ann's artistic landscape\, inspiring generations of artists to the present day.
X-ALT-DESC;FMTTYPE=text/html:<p>For over a century\, the granite industry played a vital role in Cape Ann&rsquo\;s economy\, providing work for men from across New England and around the world\, generating profits for those fortunate enough to share in ownership of the region&rsquo\;s many quarries\, and contributing to the unique and authentic sense of place that characterizes Cape Ann today. On a broader scale\, the industry contributed significantly to building and transportation projects across our nation during a sustained period of growth and expansion.</p>\n\n<p>Drawing on the Cape Ann Museum&rsquo\;s extensive holdings of objects and archival materials related to the industry\, most of which were gifted to the Cape Ann Museum by historian Barbara Erkkila (1918-2013)\,&nbsp\;<em>Hammers on Stone</em>&nbsp\;will explore the history of the granite trade and its impact on the community. The exhibition will examine methods of harvesting\, cutting\, and finishing stone\, as well as how granite was transported from quarry to wharf and further afield. The exhibit will also explore the lives of those involved in quarrying and consider how the industry helped shape Cape Ann&rsquo\;s artistic landscape\, inspiring generations of artists to the present day.</p>\n
LOCATION:CAM Green Campus 13 Poplar Street\, Gloucester\, MA
UID:e.2981.45188
SEQUENCE:3
DTSTAMP:20260425T024125Z
URL:https://business.capeannchamber.com/events/details/hammers-on-stone-the-granite-industry-on-cape-ann-45188
END:VEVENT

END:VCALENDAR
