BEGIN:VCALENDAR
VERSION:2.0
PRODID:-//ChamberMaster//Event Calendar 2.0//EN
METHOD:PUBLISH
X-PUBLISHED-TTL:P3D
REFRESH-INTERVAL:P3D
CALSCALE:GREGORIAN
BEGIN:VEVENT
DTSTART:20251024T163000Z
DTEND:20251024T183000Z
X-MICROSOFT-CDO-ALLDAYEVENT:FALSE
SUMMARY:Halloween Toddler Trick-or-Treat Parade
DESCRIPTION:Halloween Toddler Trick-or-Treat Parade for children 5 years and under.\n\nMarch Down Main Street
X-ALT-DESC;FMTTYPE=text/html:<span style="font-size:18px\;"><span style="font-family:comic sans ms\;">Halloween Toddler Trick-or-Treat Parade for children 5 years and under.<br />\nMarch Down Main Street</span></span>
LOCATION:Parade will start at the Greater Cape Ann Chamber of Commerce parking lot and will end at the Police Station. This is a slow walking parade\, and they may arrive at businesses later than the start time.
UID:e.2981.45117
SEQUENCE:3
DTSTAMP:20260425T024259Z
URL:https://business.capeannchamber.com/events/details/halloween-toddler-trick-or-treat-parade-45117
END:VEVENT

END:VCALENDAR
