BEGIN:VCALENDAR
VERSION:2.0
PRODID:-//ChamberMaster//Event Calendar 2.0//EN
METHOD:PUBLISH
X-PUBLISHED-TTL:P3D
REFRESH-INTERVAL:P3D
CALSCALE:GREGORIAN
BEGIN:VEVENT
DTSTART:20251025T160000Z
DTEND:20251025T190000Z
X-MICROSOFT-CDO-ALLDAYEVENT:FALSE
SUMMARY:Hallow-Marini Party
DESCRIPTION:Families will find Halloween fun at Marini Farm in Ipswich! By popular demand we are hosting another kid's Halloween event!\n\n\n\nWe welcome everyone to join in on the fun and dress up.\n\nThere will be a DJ\, Dance Party with Characters and Trick or Treat Hunt!\n\n\n\nEvery guest\, ages 3+\, must have an admission wristband to enter the Maze Park Play Area/Corn Maze.  Kids age 2 and under are FREE with a paying adult. \n\n\n\nAll guests 13 and under must have an adult in the Maze Park/Corn Maze with them.  This requirement helps ensure the safety and enjoyment of the Maze Park and Corn Maze for all guests.
X-ALT-DESC;FMTTYPE=text/html:<span style="font-size:16px\;">Families will find Halloween fun at Marini Farm in Ipswich! By popular demand we are hosting another kid&#39\;s Halloween event!<br />\n<br />\nWe welcome everyone to join in on the fun and dress up.<br />\nThere will be a DJ\, Dance Party with Characters and Trick or Treat Hunt!</span><br />\n<br />\nEvery guest\, ages 3+\, must have an admission wristband to enter the Maze Park Play Area/Corn Maze.&nbsp\; Kids age 2 and under are FREE with a paying adult.&#8203\;<br />\n<br />\nAll guests 13 and under must have an adult in the Maze Park/Corn Maze with them.&nbsp\; This requirement helps ensure the safety and enjoyment of the Maze Park and Corn Maze for all guests.
LOCATION:
UID:e.2981.45113
SEQUENCE:3
DTSTAMP:20260425T023943Z
URL:https://business.capeannchamber.com/events/details/hallow-marini-party-45113
END:VEVENT

END:VCALENDAR
