BEGIN:VCALENDAR
VERSION:2.0
PRODID:-//ChamberMaster//Event Calendar 2.0//EN
METHOD:PUBLISH
X-PUBLISHED-TTL:P3D
REFRESH-INTERVAL:P3D
CALSCALE:GREGORIAN
BEGIN:VEVENT
DTSTART:20250621T140000Z
DTEND:20250621T183000Z
X-MICROSOFT-CDO-ALLDAYEVENT:FALSE
SUMMARY:Guest Tarot Reader Mellisa at Apothecary Suil Crow
DESCRIPTION:Mellisa Porter will be our reader from 10-1:30 on Saturdays (weather permitting) outside our shop. Melissa has been reading since 2004. She studied under Laurie Cabot for two years and is a Gloucester native. Her specialty is Oracle cards to receive messages from the universe for her clients surrounding them with Goddess Knowledge! She will be charging only $30 cash for her guided spiritual readings each reading is 20 minutes long.
X-ALT-DESC;FMTTYPE=text/html:<span style="color:rgb(5\, 5\, 5)\; font-family:system-ui\,-apple-system\,blinkmacsystemfont\,.sfnstext-regular\,sans-serif\; font-size:15px">Mellisa Porter will be our reader from 10-1:30 on Saturdays (weather permitting) outside our shop. Melissa has been reading since 2004. She studied under Laurie Cabot for two years and is a Gloucester native. Her specialty is Oracle cards to receive messages from the universe for her clients surrounding them with Goddess Knowledge! She will be charging only $30 cash for her guided spiritual readings each reading is 20 minutes long.</span>
LOCATION:Apothecary Suil Crow 9 Whistlestop Mall Rockport MA 01966
UID:e.2981.36843
SEQUENCE:3
DTSTAMP:20260424T211435Z
URL:https://business.capeannchamber.com/events/details/guest-tarot-reader-mellisa-at-apothecary-suil-crow-06-21-2025-36843
END:VEVENT

END:VCALENDAR
