BEGIN:VCALENDAR
VERSION:2.0
PRODID:-//ChamberMaster//Event Calendar 2.0//EN
METHOD:PUBLISH
X-PUBLISHED-TTL:P3D
REFRESH-INTERVAL:P3D
CALSCALE:GREGORIAN
BEGIN:VEVENT
DTSTART:20250617T160000Z
DTEND:20250617T200000Z
X-MICROSOFT-CDO-ALLDAYEVENT:FALSE
SUMMARY:Guest Reader Mara at Apothecary Suil Crow
DESCRIPTION:Guest Tarot Reader Mara will be at our shop tomorrow Tuesdays in June 12-4pm. Experience intuitive insights and personal guidance with our professional guest tarot reader. \n\n\n\nHer talented spiritual readings have helped individuals in multiple locations including Bountiful Books in San Diego California\, Calvin Klein San Diego California\, Rosorito Beach in Mexico\, Mystic Moon San Diego California\, Dark Star Philosophia\, and read in Bucharest Romania where she taught a lecture as well.\n\n\n\nMara will be offering a unique opportunity to gain clarity and deepen your spiritual connection\, each session is tailored to your individual journey. Reading are $30 for 20 minutes cash
X-ALT-DESC;FMTTYPE=text/html:<span style="color:rgb(5\, 5\, 5)\; font-family:system-ui\,-apple-system\,blinkmacsystemfont\,.sfnstext-regular\,sans-serif\; font-size:15px">Guest Tarot Reader Mara will be at our shop tomorrow Tuesdays in June 12-4pm. Experience intuitive insights and personal guidance with our professional guest tarot reader.&nbsp\;</span><br />\n<br />\n<span style="color:rgb(5\, 5\, 5)\; font-family:system-ui\,-apple-system\,blinkmacsystemfont\,.sfnstext-regular\,sans-serif\; font-size:15px">Her talented spiritual readings have helped individuals in multiple locations including Bountiful Books in San Diego California\, Calvin Klein San Diego California\, Rosorito Beach in Mexico\, Mystic Moon San Diego California\, Dark Star Philosophia\, and read in Bucharest Romania where she taught a lecture as well.</span><br />\n<br />\n<span style="color:rgb(5\, 5\, 5)\; font-family:system-ui\,-apple-system\,blinkmacsystemfont\,.sfnstext-regular\,sans-serif\; font-size:15px">Mara will be offering a unique opportunity to gain clarity and deepen your spiritual connection\, each session is tailored to your individual journey. Reading are $30 for 20 minutes cash</span>
LOCATION:Apothecary Suil Crow 9 Whistlestop Mall Rockport MA 01966
UID:e.2981.36832
SEQUENCE:3
DTSTAMP:20260424T211250Z
URL:https://business.capeannchamber.com/events/details/guest-reader-mara-at-apothecary-suil-crow-06-17-2025-36832
END:VEVENT

END:VCALENDAR
