BEGIN:VCALENDAR
VERSION:2.0
PRODID:-//ChamberMaster//Event Calendar 2.0//EN
METHOD:PUBLISH
X-PUBLISHED-TTL:P3D
REFRESH-INTERVAL:P3D
CALSCALE:GREGORIAN
BEGIN:VEVENT
DTSTART:20250618T160000Z
DTEND:20250618T200000Z
X-MICROSOFT-CDO-ALLDAYEVENT:FALSE
SUMMARY:Guest Reader Kim at Apothecary Suil Crow
DESCRIPTION:Kim Morris joins us\, bringing her mediumship skills and connection to the spirit world through TAROT AND PALM READING. Kim was born with the gift of sight\, mediumship\, ability to read cards\, telemetry\, and palmistry and has been practicing the arts for over 38 years. She has assisted law enforcement\, state agencies and federal agencies with cold cases and finding criminals and lost individuals\, or finding family to get closure in certain circumstances.\n\n\n\nShe will be available for card readings\, and palmistry this Wednesday the 18th and 25th in June from 12-4pm. Each session is 20 minutes long and only $30 ($1.50 per minute). Your readings will be done outside our shop at Apothecary Suil Crow located at 9 Whistlestop Mall in Rockport MA\, surrounded by Mother Nature and our beautiful herbal garden!\n\n(weather permitting)
X-ALT-DESC;FMTTYPE=text/html:<div>\n<div>Kim Morris joins us\, bringing her mediumship skills and connection to the spirit world through TAROT AND PALM READING. Kim was born with the gift of sight\, mediumship\, ability to read cards\, telemetry\, and palmistry and has been practicing the arts for over 38 years. She has assisted law enforcement\, state agencies and federal agencies with cold cases and finding criminals and lost individuals\, or finding family to get closure in certain circumstances.</div>\n</div>\n\n<div>\n<div>She will be available for card readings\, and palmistry this Wednesday the 18th and 25th in June from 12-4pm. Each session is 20 minutes long and only $30 ($1.50 per minute). Your readings will be done outside our shop at Apothecary Suil Crow located at 9 Whistlestop Mall in Rockport MA\, surrounded by Mother Nature and our beautiful herbal garden!<br />\n(weather permitting)</div>\n</div>\n
LOCATION:Apothecary Suil Crow 9 Whistlestop Mall Rockport MA 01966
UID:e.2981.37045
SEQUENCE:3
DTSTAMP:20260424T211501Z
URL:https://business.capeannchamber.com/events/details/guest-reader-kim-at-apothecary-suil-crow-06-18-2025-37045
END:VEVENT

END:VCALENDAR
