BEGIN:VCALENDAR
VERSION:2.0
PRODID:-//ChamberMaster//Event Calendar 2.0//EN
METHOD:PUBLISH
X-PUBLISHED-TTL:P3D
REFRESH-INTERVAL:P3D
CALSCALE:GREGORIAN
BEGIN:VEVENT
DTSTART:20250817T233000Z
DTEND:20250818T013000Z
X-MICROSOFT-CDO-ALLDAYEVENT:FALSE
SUMMARY:Guest Presentation: Michael Dutra & the Strictly Sinatra Band
DESCRIPTION:Hailed as one of the finest interpreters of the Sinatra sound in the world\, Rhode Island native Michael Dutra has been performing his tribute to Frank Sinatra across the nation from Las Vegas to Miami to Boston since 2002. Boston Globe columnist Wesley Morris remarked that "his sound is velour to Sinatra's velvet. You really can't tell the difference." Ron Della Chiesa of WPLM Boston Radio and Sinatra Guru adds\, "Michael literally channels Sinatra."
X-ALT-DESC;FMTTYPE=text/html:<p><span style="color:rgb(0\, 0\, 0)\; font-family:open sans\,arial\,helvetica\,sans-serif\; font-size:16px">Hailed as one of the finest interpreters of the Sinatra sound in the world\, Rhode Island native Michael Dutra has been performing his tribute to Frank Sinatra across the nation&mdash\;from Las Vegas to Miami to Boston&mdash\;since 2002.&nbsp\;</span><em>Boston Globe</em><span style="color:rgb(0\, 0\, 0)\; font-family:open sans\,arial\,helvetica\,sans-serif\; font-size:16px">&nbsp\;columnist Wesley Morris remarked that &ldquo\;his sound is velour to Sinatra&rsquo\;s velvet. You really can&rsquo\;t tell the difference.&rdquo\; Ron Della Chiesa of WPLM Boston Radio and Sinatra Guru adds\, &ldquo\;Michael literally channels Sinatra.&rdquo\;</span></p>\n
LOCATION:37 Main St\, Rockport\, MA 01966
UID:e.2981.36774
SEQUENCE:3
DTSTAMP:20260424T235633Z
URL:https://business.capeannchamber.com/events/details/guest-presentation-michael-dutra-the-strictly-sinatra-band-36774
END:VEVENT

END:VCALENDAR
