BEGIN:VCALENDAR
VERSION:2.0
PRODID:-//ChamberMaster//Event Calendar 2.0//EN
METHOD:PUBLISH
X-PUBLISHED-TTL:P3D
REFRESH-INTERVAL:P3D
CALSCALE:GREGORIAN
BEGIN:VEVENT
DTSTART:20250916T123000Z
DTEND:20250916T143000Z
X-MICROSOFT-CDO-ALLDAYEVENT:FALSE
SUMMARY:Grow Your Business on Instagram: Content That Works
DESCRIPTION:Instagram isn't just for selfies and hashtags it's one of today's most powerful tools for building visibility\, attracting customers\, and growing your business. In this interactive workshop\, you'll learn how to use Instagram strategically to connect with your audience and showcase your brand.\n\nWe'll begin with a straightforward overview of how social media algorithms work and what that means for your business content. Then\, we'll dive into proven best practices for creating posts and stories that capture attention\, drive engagement\, and convert followers into customers.\n\nBy the end of this workshop\, you'll walk away with the confidence and practical strategies to create optimized content that not only gets seen but helps your business succeed on Instagram.\n\nFacilitator: Alyse Grimm
X-ALT-DESC;FMTTYPE=text/html:<span style="font-family:times new roman\,serif"><span style="font-size:14.0pt">Instagram isn&rsquo\;t just for selfies and hashtags&mdash\;it&rsquo\;s one of today&rsquo\;s most powerful tools for building visibility\, attracting customers\, and growing your business. In this interactive workshop\, you&rsquo\;ll learn how to use Instagram strategically to connect with your audience and showcase your brand.</span></span><br />\n<span style="font-family:times new roman\,serif"><span style="font-size:14.0pt">We&rsquo\;ll begin with a straightforward overview of how social media algorithms work and what that means for your business content. Then\, we&rsquo\;ll dive into proven best practices for creating posts and stories that capture attention\, drive engagement\, and convert followers into customers.</span></span><br />\n<span style="font-family:times new roman\,serif"><span style="font-size:14.0pt">By the end of this workshop\, you&rsquo\;ll walk away with the confidence and practical strategies to create optimized content that not only gets seen&mdash\;but helps your business succeed on Instagram.<br />\nFacilitator: Alyse Grimm</span></span><br />\n<br />\n&nbsp\;
LOCATION:The Enterprise Center at Salem State University
UID:e.2981.43043
SEQUENCE:3
DTSTAMP:20260425T011309Z
URL:https://business.capeannchamber.com/events/details/grow-your-business-on-instagram-content-that-works-43043
END:VEVENT

END:VCALENDAR
