BEGIN:VCALENDAR
VERSION:2.0
PRODID:-//ChamberMaster//Event Calendar 2.0//EN
METHOD:PUBLISH
X-PUBLISHED-TTL:P3D
REFRESH-INTERVAL:P3D
CALSCALE:GREGORIAN
BEGIN:VEVENT
DTSTART:20250930T220000Z
DTEND:20250930T233000Z
X-MICROSOFT-CDO-ALLDAYEVENT:FALSE
SUMMARY:Greater Cape Ann College & Career Fair 2025
DESCRIPTION:List of Participating Colleges and Businesses\n\n\n\nGreater Cape Ann Regional College & Career Fair\n\nThe Greater Cape Ann Chamber of Commerce\, in partnership with Ipswich\, Gloucester\,  Rockport and Manchester-Essex High Schools\, invites you and your family to join us on Tuesday\, September 30th from 6:00 to 7:30pm\, for the Greater Cape Ann Regional College & Career Fair\, to be held at the Ipswich High School Lower Gymnasium\n\n\n\n1.  Why should I attend? \n\nThe Chamber's business leaders have partnered with our area schools to bring over 90 colleges and universities to the event\, along with local business leaders\, to help you explore career opportunities and associated educational pathways.\n\n\n\n2.  What will I get out of it   how will it help me?\n\nIn addition to the advanced education career fields\, we will also have industries and opportunities represented that do not require college degrees\, including the trades and Armed Forces. College and local business representatives will be there to help in the development of your personal roadmap towards a career on Cape Ann or beyond.\n\n\n\n3.  What will it cost me? \n\nThere is no charge for this event. This fair is sponsored by The Greater Cape Ann Chamber Business & Professional Educators Network:  the Business / Education Collaborative.\n\n\n\nWe look forward to having you participate in this unique and exciting event\, to help you better understand Cape Ann career paths.
X-ALT-DESC;FMTTYPE=text/html:<span style="font-size:18px\;"><a href="https://chambermaster.blob.core.windows.net/userfiles/UserFiles/chambers/2981/File/2025CapeAnnCollegeCareerFairListofAttendees.pdf">List of Participating Colleges and Businesses</a></span><br />\n<br />\n<font face="calibri" size="5"><strong>Greater Cape Ann </strong></font><strong style="font-family: calibri\; font-size: x-large\;">Regional College &amp\; Career Fair</strong><br />\n<font face="calibri" size="5">The Greater Cape Ann Chamber of Commerce\, in partnership with Ipswich\, Gloucester\,&nbsp\; Rockport and Manchester-Essex High Schools\, invites you and your family to join us on Tuesday\, September 30th from 6:00 to 7:30pm\, for the <strong>Greater Cape Ann&nbsp\;</strong></font><strong style="font-family: calibri\; font-size: x-large\;">Regional College &amp\; Career Fair</strong><font face="calibri" size="5"><strong>\,</strong>&nbsp\;to be held at the Ipswich High School Lower Gymnasium</font><br />\n<br />\n<strong><span style="font-size: 14pt\;"><span style="font-family: calibri\;">1.&nbsp\; Why should I attend? </span></span></strong><br />\n<span style="font-size: 14pt\;"><span style="font-family: calibri\;">The Chamber&#39\;s business leaders have partnered with our area schools to bring over 90 colleges and universities to the event\, along with local business leaders\, to help you explore career opportunities and associated educational pathways.</span></span><br />\n<br />\n<strong><span style="font-size: 14pt\;"><span style="font-family: calibri\;">2.&nbsp\; What will I get out of it &ndash\; how will it help me?</span></span></strong><br />\n<span style="font-size: 14pt\;"><span style="font-family: calibri\;">In addition to the advanced education career fields\, we will also have industries and opportunities represented that do not require college degrees\, including the trades and Armed Forces. College and local business representatives will be there to help in the development of your personal roadmap towards a career on Cape Ann or beyond.</span></span><br />\n<br />\n<strong><span style="font-size: 14pt\;"><span style="font-family: calibri\;">3.&nbsp\; What will it cost me?&nbsp\;</span></span></strong><br />\n<span style="font-size: 14pt\;"><span style="font-family: calibri\,sans-serif\;">There is no charge for this event. This fair is sponsored by&nbsp\;The Greater Cape Ann Chamber Business &amp\; Professional Educators Network: &nbsp\;the <em>Business / Education Collaborative</em>.<br />\n<br />\nWe look forward to having you participate in this unique and exciting event\, to help you better understand Cape Ann career paths.</span></span><br />\n<br />\n<br />\n<br />\n<br />\n&nbsp\;
LOCATION:Ipswich High School Lower Gymnasium 134 High Street Ipswich
UID:e.2981.37455
SEQUENCE:3
DTSTAMP:20260425T011351Z
URL:https://business.capeannchamber.com/events/details/greater-cape-ann-college-career-fair-2025-37455
END:VEVENT

END:VCALENDAR
