BEGIN:VCALENDAR
VERSION:2.0
PRODID:-//ChamberMaster//Event Calendar 2.0//EN
METHOD:PUBLISH
X-PUBLISHED-TTL:P3D
REFRESH-INTERVAL:P3D
CALSCALE:GREGORIAN
BEGIN:VEVENT
DTSTART:20260212T133000Z
DTEND:20260212T153000Z
X-MICROSOFT-CDO-ALLDAYEVENT:FALSE
SUMMARY:Grant Writing Made Easy: Unlock Your Funding Potential
DESCRIPTION:Whether you're new to grant writing or just need a quick beginner's refresher\, this workshop is designed to give you the tools\, insights\, and confidence to craft winning grant proposals. We'll guide you through the key components of a successful grant application\, from creating a compelling funding request to navigating tricky grant questions.\n\nIn this hands-on session\, you'll learn how to:\n\nOutline your proposal using a clear\, strategic logic model\n\nCraft boilerplate templates to streamline future applications\n\nDevelop realistic grant budgets that align with your goals\n\nDon't miss this opportunity to learn the grant writing skills for success!\n\n\n\nPresenter: Lara Lepionka\n\n\n\nThis informative workshop is offered at no cost and is being sponsored in partnership with the North Shore Alliance for Economic Development and the Massachusetts Office of Business Development (MOBD).
X-ALT-DESC;FMTTYPE=text/html:<p>Whether you&rsquo\;re new to grant writing or just need a quick beginner&rsquo\;s refresher\, this workshop is designed to give you the tools\, insights\, and confidence to craft winning grant proposals. We&rsquo\;ll guide you through the key components of a successful grant application\, from creating a compelling funding request to navigating tricky grant questions.</p>\n\n<p>In this hands-on session\, you&rsquo\;ll learn how to:</p>\n\n<p>Outline your proposal using a clear\, strategic logic model<br />\nCraft boilerplate templates to streamline future applications<br />\nDevelop realistic grant budgets that align with your goals</p>\n\n<p>Don&rsquo\;t miss this opportunity to learn the grant writing skills for success!<br />\n<br />\nPresenter: Lara Lepionka<br />\n<br />\n<span style="font-family:calibri\,sans-serif"><span style="font-size:11.0pt">This informative workshop is offered at no cost and is being sponsored in partnership with the North Shore Alliance for Economic Development and the Massachusetts Office of Business Development (MOBD).</span></span></p>\n
LOCATION:Enterprise Center at Salem State University
UID:e.2981.46135
SEQUENCE:3
DTSTAMP:20260422T044716Z
URL:https://business.capeannchamber.com/events/details/grant-writing-made-easy-unlock-your-funding-potential-46135
END:VEVENT

END:VCALENDAR
