BEGIN:VCALENDAR
VERSION:2.0
PRODID:-//ChamberMaster//Event Calendar 2.0//EN
METHOD:PUBLISH
X-PUBLISHED-TTL:P3D
REFRESH-INTERVAL:P3D
CALSCALE:GREGORIAN
BEGIN:VEVENT
DTSTART:20251025T173000Z
DTEND:20251025T183000Z
X-MICROSOFT-CDO-ALLDAYEVENT:FALSE
SUMMARY:Granite Block Shaping Demonstration by Scott Stewart
DESCRIPTION:Saturday\, October 25\, 2025\n\n1:30 p.m.   2:30 p.m.\n\nJanet & William Ellery James Center\, CAM Green\n\n13 Poplar Street\, Gloucester\, MA 01930\n\nFree and open to the public. \n\n\n\nJoin local stonecutter Scott Stewart for a granite block shaping demonstration! Scott will also discuss the different types of cuts favored by the cities Cape Ann quarries exported to. Following this demonstration\, please register to join us for a CAM Gallery Talk by Susanna Natti\, exploring the impact of the granite industry on Cape Ann's immigrant populations. \n\n\n\nScott Stewart is a skilled stonecutter and lifelong resident of Gloucester\, Massachusetts\, known for his deep connection to Cape Ann's rugged landscape and rich artisan traditions. His work often reflects the natural beauty and durability of the stone that defines Gloucester's shoreline and architecture. As part of a family with deep roots in the area\, Stewart continues to uphold the legacy of traditional stonework while mentoring younger artisans and preserving the character of his hometown through every chisel and cut.\n\n\n\nImage Credit: Eino Natti (1909-1975) Polyphemus (detail). 1950. Ink on linen\, linoleum block print. Collection of the Cape Ann Museum\, Gloucester\, MA. Gift of Annie S. Howells\, 1990. [Accession #2677.]
X-ALT-DESC;FMTTYPE=text/html:Saturday\, October 25\, 2025<br />\n1:30 p.m. &ndash\; 2:30 p.m.<br />\nJanet &amp\; William Ellery James Center\, CAM Green<br />\n13 Poplar Street\, Gloucester\, MA 01930<br />\nFree and open to the public.&nbsp\;<br />\n<br />\nJoin local stonecutter Scott Stewart for a granite block shaping demonstration! Scott will also discuss the different types of cuts favored by the cities Cape Ann quarries exported to. Following this demonstration\, please register to join us for a CAM Gallery Talk by Susanna Natti\, exploring the impact of the granite industry on Cape Ann&rsquo\;s immigrant populations.&nbsp\;<br />\n<br />\nScott Stewart is a skilled stonecutter and lifelong resident of Gloucester\, Massachusetts\, known for his deep connection to Cape Ann&rsquo\;s rugged landscape and rich artisan traditions. His work often reflects the natural beauty and durability of the stone that defines Gloucester&rsquo\;s shoreline and architecture. As part of a family with deep roots in the area\, Stewart continues to uphold the legacy of traditional stonework while mentoring younger artisans and preserving the character of his hometown through every chisel and cut.<br />\n<br />\nImage Credit: Eino Natti (1909-1975) Polyphemus (detail). 1950. Ink on linen\, linoleum block print. Collection of the Cape Ann Museum\, Gloucester\, MA. Gift of Annie S. Howells\, 1990. [Accession #2677.]&nbsp\;
LOCATION:Janet & William Ellery James Center\, CAM Green 13 Poplar Street\, Gloucester\, MA 01930
UID:e.2981.45161
SEQUENCE:3
DTSTAMP:20260425T024125Z
URL:https://business.capeannchamber.com/events/details/granite-block-shaping-demonstration-by-scott-stewart-45161
END:VEVENT

END:VCALENDAR
