BEGIN:VCALENDAR
VERSION:2.0
PRODID:-//ChamberMaster//Event Calendar 2.0//EN
METHOD:PUBLISH
X-PUBLISHED-TTL:P3D
REFRESH-INTERVAL:P3D
CALSCALE:GREGORIAN
BEGIN:VEVENT
DTSTART:20221208T190000Z
DTEND:20221209T000000Z
X-MICROSOFT-CDO-ALLDAYEVENT:FALSE
SUMMARY:Grand Banks Local Makers Market
DESCRIPTION:Grand Banks will be hosting it's first Makers Market on December 8th from 2-7 in our showroom. We will be featuring 8 local vendors who have mastered their crafts. In our Germany inspired Bier Garten Penny Packers food truck will be serving up a variety of savory dishes while Alexis from Helen's Bottle Shop keeps us warm with thoughtfully selected choices of wine\, beer\, and festive mocktails. \n\n\n\nThere will be something for everyone so put on your winter "parkha " and come support some wonderful local people \n\n\n\nLocal Vendors Includes:\n\n\n\nGood Linens Studio\n\nLuna Moss- Wreaths and Holiday florals \n\nHelens Bottle Shop \n\nHerd Supply - Soaps\n\nSarah & Lucy Wonson Jewelry \n\nAllision Phillips - Ceramics\n\nLeah Bonarrigo- Beauty Counter \n\nJohn Francis- Welded Goods \n\n\n\nSee you there !
X-ALT-DESC;FMTTYPE=text/html:Grand Banks will be hosting it&#39\;s first Makers Market on December 8th from 2-7 in our showroom. We will be featuring 8 local vendors who have mastered their crafts. In our Germany inspired&nbsp\;Bier Garten Penny Packers food truck will be serving up a variety of savory dishes while Alexis from Helen&#39\;s Bottle Shop keeps us warm with thoughtfully selected choices of wine\, beer\, and festive mocktails.&nbsp\;<br />\n<br />\nThere will be something for everyone so put on your winter &quot\;parkha &quot\; and come support some wonderful local people&nbsp\;<br />\n<br />\n<strong>Local Vendors Includes:</strong><br />\n<br />\nGood Linens Studio<br />\nLuna Moss- Wreaths and Holiday florals&nbsp\;<br />\nHelens Bottle Shop&nbsp\;<br />\nHerd Supply - Soaps<br />\nSarah &amp\; Lucy Wonson Jewelry&nbsp\;<br />\nAllision Phillips - Ceramics<br />\nLeah Bonarrigo- Beauty Counter&nbsp\;<br />\nJohn Francis- Welded Goods&nbsp\;<br />\n<br />\nSee you there !&nbsp\;<br />\n<br />\n&nbsp\;
LOCATION:7 Crafts Rd Gloucester MA 01930
UID:e.2981.24559
SEQUENCE:3
DTSTAMP:20260424T105238Z
URL:https://business.capeannchamber.com/events/details/grand-banks-local-makers-market-24559
END:VEVENT

END:VCALENDAR
