BEGIN:VCALENDAR
VERSION:2.0
PRODID:-//ChamberMaster//Event Calendar 2.0//EN
METHOD:PUBLISH
X-PUBLISHED-TTL:P3D
REFRESH-INTERVAL:P3D
CALSCALE:GREGORIAN
BEGIN:VEVENT
DTSTART:20250802T210000Z
DTEND:20250802T230000Z
X-MICROSOFT-CDO-ALLDAYEVENT:FALSE
SUMMARY:Grace Kelly
DESCRIPTION:TWO SHOWS!\n\nSaturday\, August 2 :: 5 & 8 PM\n\nWorld-renowned jazz-pop saxophonist\, singer and bandleader Grace Kelly celebrates 20 years of performing with two electrifying concerts in Rockport.\n\n\n\nPlease note the option of two shows when purchasing. Select either 5 PM or 8 PM on the left-side column.
X-ALT-DESC;FMTTYPE=text/html:<h4>TWO SHOWS!</h4>\n\n<h3>Saturday\, August 2 :: 5 &amp\; 8 PM</h3>\n\n<p><span style="color:rgb(0\, 0\, 0)\; font-family:open sans\,arial\,helvetica\,sans-serif\; font-size:16px">World-renowned jazz-pop saxophonist\, singer and bandleader Grace Kelly celebrates 20 years of performing with two electrifying concerts in Rockport.</span><br />\n<br />\n<em>Please note the option of two shows when purchasing. Select either 5 PM or 8 PM on the left-side column.</em></p>\n
LOCATION:37 Main St\, Rockport\, MA 01966
UID:e.2981.36761
SEQUENCE:3
DTSTAMP:20260424T235226Z
URL:https://business.capeannchamber.com/events/details/grace-kelly-08-02-2025-36761
END:VEVENT

END:VCALENDAR
