BEGIN:VCALENDAR
VERSION:2.0
PRODID:-//ChamberMaster//Event Calendar 2.0//EN
METHOD:PUBLISH
X-PUBLISHED-TTL:P3D
REFRESH-INTERVAL:P3D
CALSCALE:GREGORIAN
BEGIN:VEVENT
DTSTART:20251008T133000Z
DTEND:20251008T163000Z
X-MICROSOFT-CDO-ALLDAYEVENT:FALSE
SUMMARY:Gouache 101 - Weekly Class with Leigh H. Slingluff\, Rockport Art Association & Museum
DESCRIPTION:Gouache 101 - Weekly Class with Leigh H. Slingluff\,\n\nLearn step by step techniques of Gouache through easy-to-follow sketchbook exercises\, demonstrations\, and one-on-one guidance. No painting experience needed just bring your supplies and start your gouache adventure. Beginners level. Space is Limited.\n\n\n\nRegistration deadline is September 24\, 2025\n\nFor more information & to register please visit\, https://www.rockportartassn.org/adult-education/gouache-101-weekly-class-with-leigh-h-slingluff
X-ALT-DESC;FMTTYPE=text/html:<strong>Gouache 101 - Weekly Class with Leigh H. Slingluff\,</strong><br />\nLearn step by step techniques of Gouache through easy-to-follow sketchbook exercises\, demonstrations\, and one-on-one guidance. No painting experience needed&mdash\;just bring your supplies and start your gouache adventure. Beginners level. Space is Limited.<br />\n<br />\n<strong>Registration deadline is September 24\, 2025</strong><br />\nFor more information &amp\; to register please visit\,&nbsp\;<a href="https://www.rockportartassn.org/adult-education/gouache-101-weekly-class-with-leigh-h-slingluff">https://www.rockportartassn.org/adult-education/gouache-101-weekly-class-with-leigh-h-slingluff</a>
LOCATION:Rockport Art Association & Museum 12 Main Street Rockport\, MA 01966
UID:e.2981.43134
SEQUENCE:3
DTSTAMP:20260425T024507Z
URL:https://business.capeannchamber.com/events/details/gouache-101-weekly-class-with-leigh-h-slingluff-rockport-art-association-museum-43134
END:VEVENT

END:VCALENDAR
