BEGIN:VCALENDAR
VERSION:2.0
PRODID:-//ChamberMaster//Event Calendar 2.0//EN
METHOD:PUBLISH
X-PUBLISHED-TTL:P3D
REFRESH-INTERVAL:P3D
CALSCALE:GREGORIAN
BEGIN:VEVENT
DTSTART:20250916T210000Z
DTEND:20250916T230000Z
X-MICROSOFT-CDO-ALLDAYEVENT:FALSE
SUMMARY:GMGI Open House & Art Unveiling
DESCRIPTION:As part of Gloucester's Stand Up for Art & Science Initiative\, GMGI is excited to host an Open House & Art Unveiling at our research institute on the harbor!\n\n\n\nExplore our waterfront campus\, chat with GMGI scientists about their research\, and learn more about their groundbreaking work at the intersection of science and the sea.\n\n\n\nThis special evening will also feature the unveiling of a temporary sea urchin sculpture by local artist Rebecca Nagle and assisted by Sinikka Nogelo\, who will speak about their artistic vision and process.\n\n\n\nGuests are invited to join us for light refreshments and experience how art and science come together at GMGI. Click here to register.
X-ALT-DESC;FMTTYPE=text/html:<p><span style="color:rgba(0\, 0\, 0\, 0.9)\; font-family:-apple-system\,system-ui\,blinkmacsystemfont\,segoe ui\,roboto\,helvetica neue\,fira sans\,ubuntu\,oxygen\,oxygen sans\,cantarell\,droid sans\,apple color emoji\,segoe ui emoji\,segoe ui emoji\,segoe ui symbol\,lucida grande\,helvetica\,arial\,sans-serif\; font-size:14px">As part of Gloucester&rsquo\;s Stand Up for Art &amp\; Science Initiative\, GMGI is excited to host an Open House &amp\; Art Unveiling at our research institute on the harbor!</span><br />\n<br />\n<span style="color:rgba(0\, 0\, 0\, 0.9)\; font-family:-apple-system\,system-ui\,blinkmacsystemfont\,segoe ui\,roboto\,helvetica neue\,fira sans\,ubuntu\,oxygen\,oxygen sans\,cantarell\,droid sans\,apple color emoji\,segoe ui emoji\,segoe ui emoji\,segoe ui symbol\,lucida grande\,helvetica\,arial\,sans-serif\; font-size:14px">Explore our waterfront campus\, chat with GMGI scientists about their research\, and learn more about their groundbreaking work at the intersection of science and the sea.</span><br />\n<br />\n<span style="color:rgba(0\, 0\, 0\, 0.9)\; font-family:-apple-system\,system-ui\,blinkmacsystemfont\,segoe ui\,roboto\,helvetica neue\,fira sans\,ubuntu\,oxygen\,oxygen sans\,cantarell\,droid sans\,apple color emoji\,segoe ui emoji\,segoe ui emoji\,segoe ui symbol\,lucida grande\,helvetica\,arial\,sans-serif\; font-size:14px">This special evening will also feature the unveiling of a temporary sea urchin sculpture by local artist Rebecca Nagle and assisted by Sinikka Nogelo\, who will speak about their artistic vision and process.</span><br />\n<br />\n<span style="color:rgba(0\, 0\, 0\, 0.9)\; font-family:-apple-system\,system-ui\,blinkmacsystemfont\,segoe ui\,roboto\,helvetica neue\,fira sans\,ubuntu\,oxygen\,oxygen sans\,cantarell\,droid sans\,apple color emoji\,segoe ui emoji\,segoe ui emoji\,segoe ui symbol\,lucida grande\,helvetica\,arial\,sans-serif\; font-size:14px">Guests are invited to join us for light refreshments and experience how art and science come together at GMGI.&nbsp\;</span><a href="https://www.eventbrite.com/e/gmgi-open-house-art-unveiling-tickets-1545332022679?utm-campaign=social&amp\;utm-content=attendeeshare&amp\;utm-medium=discovery&amp\;utm-term=listing&amp\;utm-source=cp&amp\;aff=ebdsshcopyurl">Click here to register.</a></p>\n
LOCATION:Gloucester Marine Genomics Institute (GMGI)\, 417 Main Street\, Gloucester MA
UID:e.2981.43040
SEQUENCE:3
DTSTAMP:20260425T011234Z
URL:https://business.capeannchamber.com/events/details/gmgi-open-house-art-unveiling-43040
END:VEVENT

END:VCALENDAR
