BEGIN:VCALENDAR
VERSION:2.0
PRODID:-//ChamberMaster//Event Calendar 2.0//EN
METHOD:PUBLISH
X-PUBLISHED-TTL:P3D
REFRESH-INTERVAL:P3D
CALSCALE:GREGORIAN
BEGIN:VEVENT
DTSTART:20251001T230000Z
DTEND:20251002T000000Z
X-MICROSOFT-CDO-ALLDAYEVENT:FALSE
SUMMARY:Gloucester Writing Center Workshop: The Sonnet. Movements of the Mind and Heart.
DESCRIPTION:In this class\, we'll closely read and discuss sonnets from Shakespeare to modern poets such as Lowell and Bishop\, exploring how the form expresses and transforms emotion and thought as well as enacting shifting ideas of love and self. Each participant will also memorize a sonnet for a group recitation in the final session.\n\nPhotographer\, technical writer\, bicycling aficionado\, Nordic ski enthusiast\, and dog lover\, Brian Burt is the author of two books of poems: Past Continuous (2015) and Black Dog Day (2022). Burt's poems have also appeared in a variety of print and online publications over the years\, and he has taught English and Creative Writing at the University of Michigan\, Illinois Wesleyan University and other universities.
X-ALT-DESC;FMTTYPE=text/html:<h4>In this class\, we&rsquo\;ll closely read and discuss sonnets from Shakespeare to modern poets such as Lowell and Bishop\, exploring how the form expresses and transforms emotion and thought as well as enacting shifting ideas of love and self. Each participant will also memorize a sonnet for a group recitation in the final session.</h4>\n\n<h4>Photographer\, technical writer\, bicycling aficionado\, Nordic ski enthusiast\, and dog lover\, Brian Burt is the author of two books of poems: Past Continuous (2015) and Black Dog Day (2022). Burt&rsquo\;s poems have also appeared in a variety of print and online publications over the years\, and he has taught English and Creative Writing at the University of Michigan\, Illinois Wesleyan University and other universities.</h4>\n
LOCATION:Location details are private and will be sent along with your ticket purchase. In Gloucester\, MA.
UID:e.2981.43066
SEQUENCE:3
DTSTAMP:20260425T024400Z
URL:https://business.capeannchamber.com/events/details/gloucester-writing-center-workshop-the-sonnet-movements-of-the-mind-and-heart-43066
END:VEVENT

END:VCALENDAR
