BEGIN:VCALENDAR
VERSION:2.0
PRODID:-//ChamberMaster//Event Calendar 2.0//EN
METHOD:PUBLISH
X-PUBLISHED-TTL:P3D
REFRESH-INTERVAL:P3D
CALSCALE:GREGORIAN
BEGIN:VEVENT
DTSTART:20251008T230000Z
DTEND:20251009T000000Z
X-MICROSOFT-CDO-ALLDAYEVENT:FALSE
SUMMARY:Gloucester Writing Center Workshop: The Anatomy of Crime Fiction
DESCRIPTION:This course focuses on the art of mystery and suspense fiction. Each week we'll read two short stories from noted crime writers and discuss what makes them classics in the genre. For our final class we'll dissect a full-length novel. The works will come mostly from the 20 th century and will include British writers from the golden age and American writers of pulp fiction and noir.\n\nPeter Swanson is the Sunday Times and New York Times best-selling author of 12 novels\, including The Kind Worth Killing\, winner of the New England Society Book Award\, and Her Every Fear\, an NPR book of the year. His books have been translated into over 30 languages\, and his stories\, poetry\, and features have appeared in Asimov's Science Fiction\, The Atlantic Monthly\, Measure\, The Guardian\, The Strand Magazine\, and Yankee Magazine
X-ALT-DESC;FMTTYPE=text/html:<h4>This course focuses on the art of mystery and suspense fiction. Each week we&rsquo\;ll read two short stories from noted crime writers and discuss what makes them classics in the genre. For our final class we&rsquo\;ll dissect a full-length novel. The works will come mostly from the 20 th century and will include British writers from the golden age and American writers of pulp fiction and noir.</h4>\n\n<h4>Peter Swanson is the Sunday Times and New York Times best-selling author of 12 novels\, including The Kind Worth Killing\, winner of the New England Society Book Award\, and Her Every Fear\, an NPR book of the year. His books have been translated into over 30 languages\, and his stories\, poetry\, and features have appeared in Asimov&rsquo\;s Science Fiction\, The Atlantic Monthly\, Measure\, The Guardian\, The Strand Magazine\, and Yankee Magazine</h4>\n
LOCATION:Location details are private and will be sent along with your ticket purchase. In Gloucester\, MA.
UID:e.2981.43105
SEQUENCE:3
DTSTAMP:20260422T105018Z
URL:https://business.capeannchamber.com/events/details/gloucester-writing-center-workshop-the-anatomy-of-crime-fiction-10-08-2025-43105
END:VEVENT

END:VCALENDAR
