BEGIN:VCALENDAR
VERSION:2.0
PRODID:-//ChamberMaster//Event Calendar 2.0//EN
METHOD:PUBLISH
X-PUBLISHED-TTL:P3D
REFRESH-INTERVAL:P3D
CALSCALE:GREGORIAN
BEGIN:VEVENT
DTSTART:20251114T000000Z
DTEND:20251114T010000Z
X-MICROSOFT-CDO-ALLDAYEVENT:FALSE
SUMMARY:Gloucester Writing Center Workshop: Poetry of the Spirit. Stalking the Numinous.
DESCRIPTION:A single poem can be an ecstatic encounter with what Rudolf Otto called the mysterium tremendum. In this five-week seminar we will study sublime examples by Hopkins\, Blake\, Brigit Pegeen Kelly\, and other classic and contemporary poets. Brief in-class writing with prompts and lively open discussion will deepen our own work and aim to bring us closer to that oceanic awe found in poetry alone.\n\nLeslie Williams' most recent of three poetry collections is Matters for You Alone (Slant Books\, 2024)\, just longlisted for the Massachusetts Book Awards. Her work has appeared in Poetry\, The Southern Review\, Image\, Verse Daily\, Kenyon Review\, America\, and elsewhere. Honors include the Bellday Prize and the Poetry Society of America's Robert Winner Award.
X-ALT-DESC;FMTTYPE=text/html:<h4>A single poem can be an ecstatic encounter with what Rudolf Otto called the mysterium tremendum. In this five-week seminar we will study sublime examples by Hopkins\, Blake\, Brigit Pegeen Kelly\, and other classic and contemporary poets. Brief in-class writing with prompts and lively open discussion will deepen our own work and aim to bring us closer to that oceanic awe found in poetry alone.</h4>\n\n<h4>Leslie Williams&rsquo\; most recent of three poetry collections is Matters for You Alone (Slant Books\, 2024)\, just longlisted for the Massachusetts Book Awards. Her work has appeared in Poetry\, The Southern Review\, Image\, Verse Daily\, Kenyon Review\, America\, and elsewhere. Honors include the Bellday Prize and the Poetry Society of America&rsquo\;s Robert Winner Award.</h4>\n
LOCATION:Location details are private and will be sent along with your ticket purchase. In Gloucester\, MA.
UID:e.2981.43091
SEQUENCE:3
DTSTAMP:20260425T035808Z
URL:https://business.capeannchamber.com/events/details/gloucester-writing-center-workshop-poetry-of-the-spirit-stalking-the-numinous-11-13-2025-43091
END:VEVENT

END:VCALENDAR
