BEGIN:VCALENDAR
VERSION:2.0
PRODID:-//ChamberMaster//Event Calendar 2.0//EN
METHOD:PUBLISH
X-PUBLISHED-TTL:P3D
REFRESH-INTERVAL:P3D
CALSCALE:GREGORIAN
BEGIN:VEVENT
DTSTART:20250828T220000Z
DTEND:20250901T220000Z
X-MICROSOFT-CDO-ALLDAYEVENT:FALSE
SUMMARY:Gloucester Schooner Festival Schedule of Events 2025 Calendar - Cruise Schedule aboard WEJACK to View the Schooners\, Schooner Races\, Boat Parade of Lights\, Gloucester Fireworks\, and Parade of Sail
DESCRIPTION:Plan ahead. Purchase tickets below to ensure your spot aboard the Wejack to spectate the following events before they sell out!\n\nHow to See the Schooners with Cape Ann Cruises\n\nJoin us aboard the legendary Gloucester Fishing Yacht\, the Wejack to see all the visiting Schooners up close from the water. The Wejack has a full bar aboard. We have multiple trips offered daily during the Schooner festival that will be a boatload of fun! See the Calendar and schedule of events below to learn more about our trips offered for the Schooner Festival. The Wejack is a classic power/fishing vessel that you'll fall in love with\, and is not a schooner.\, but is the perfect spectator boat to get the best views.\n\nSchedule of Events - Cruise Tickets\n\nThursday\, August 28th\, 2025\n\n\n	\n	Schooner Challenge Race -5:30-7:30PM - Buy Tickets\n	\n\n\nFriday\, August 29th\, 2025\n\n\n	\n	See the Schooners & Scenic Harbor Tour  3:30 PM - 5:00 PM - Buy Tickets\n	\n	\n	See the Schooners\, Sunset & Scenic Harbor Tour  6:00 PM - 7:30 PM - Buy Tickets\n	\n\n\nSaturday\, August 30st\, 2025\n\n\n	\n	Schooner Festival Sunset Scenic Cruise Gloucester Harbor: Departs at 6PM 7:30PM - details & tickets\n	\n	\n	8PM - FIREWORKS Cruise Gloucester Harbor [low ticket alert] -  Departs 8:00PM details & tickets\n	\n\n\nSunday\, August 31st\, 2025\n\n\n	\n	Parade of Sail Cruise Departs at 9:30 AM details & tickets\n	\n	\n	Mayor's Cup Race - Departs at 12:30 PM details & tickets\n	\n	\n	See the Schooners - Scenic Gloucester Harbor Cruise Departs at 3:30 PM details & tickets\n	\n	\n	See the Schooners at Sunset - Departs at 6 PM details & tickets\n	\n\n\nMonday\, September 1st\, 2025\n\n\n	\n	See the Schooners - Scenic Gloucester Harbor Cruise Departs at 12 PM details & tickets\n	\n	\n	See the Schooners - Scenic Gloucester Harbor Cruise Departs at 3:30 PM details & tickets\n	\n	\n	See the Schooners at Sunset - Departs at 6 PM details & tickets
X-ALT-DESC;FMTTYPE=text/html:<p>Plan ahead. Purchase tickets below to ensure your spot aboard the Wejack to spectate the following events before they sell out!</p>\n\n<h2>How to See the Schooners with Cape Ann Cruises</h2>\n\n<p>Join us aboard the legendary Gloucester Fishing Yacht\, the Wejack to see all the visiting Schooners up close from the water. The Wejack has a full bar aboard. We have multiple trips offered daily during the Schooner festival that will be a boatload of fun! See the Calendar and schedule of events below to learn more about our trips offered for the Schooner Festival. The Wejack is a classic power/fishing vessel that you&rsquo\;ll fall in love with\, and is not a schooner.\, but is the perfect spectator boat to get the best views.</p>\n\n<h2>Schedule of Events - Cruise Tickets</h2>\n\n<p><strong>Thursday\, August 28th\, 2025</strong></p>\n\n<ul>\n	<li>\n	<p><strong>Schooner Challenge Race </strong>-5:30-7:30PM - <a href="https://fareharbor.com/embeds/book/capeanncruises/items/405031/availability/1725657481/book/?full-items=yes&amp\;flow=809849" style="background-image: linear-gradient(currentcolor\, currentcolor)\; background-position: left bottom\; background-size: 100% 1px\; background-repeat: no-repeat\; background-attachment: initial\; background-origin: initial\; background-clip: initial\; cursor: pointer\; color: rgb(20\, 112\, 175)\; text-decoration-line: none\; white-space: initial\; text-underline-offset: 0.2em\; text-decoration-skip-ink: auto\; display: inline\; transition: color 0.6s cubic-bezier(0.19\, 1\, 0.22\, 1)\, background-size calc(0.3s) cubic-bezier(0.19\, 1\, 0.22\, 1)\; overflow-wrap: break-word\; background-color: rgb(81\, 156\, 188) !important\;" target="_blank">Buy Tickets</a></p>\n	</li>\n</ul>\n\n<p><strong>Friday\, August 29th\, 2025</strong></p>\n\n<ul>\n	<li>\n	<p><strong>See the Schooners &amp\; Scenic Harbor Tour </strong> 3:30 PM - 5:00 PM - <a href="https://fareharbor.com/embeds/book/capeanncruises/items/405031/availability/1725655156/book/?full-items=yes&amp\;flow=809849" style="background-image: linear-gradient(currentcolor\, currentcolor)\; background-position: left bottom\; background-size: 100% 1px\; background-repeat: no-repeat\; background-attachment: initial\; background-origin: initial\; background-clip: initial\; cursor: pointer\; color: rgb(20\, 112\, 175)\; text-decoration-line: none\; white-space: initial\; text-underline-offset: 0.2em\; text-decoration-skip-ink: auto\; display: inline\; transition: color 0.6s cubic-bezier(0.19\, 1\, 0.22\, 1)\, background-size calc(0.3s) cubic-bezier(0.19\, 1\, 0.22\, 1)\; overflow-wrap: break-word\; background-color: rgb(81\, 156\, 188) !important\;" target="_blank">Buy Tickets</a></p>\n	</li>\n	<li>\n	<p><strong>See the Schooners\, Sunset &amp\; Scenic Harbor Tour </strong> 6:00 PM - 7:30 PM - <a href="https://fareharbor.com/embeds/book/capeanncruises/items/405031/availability/1725648933/book/?full-items=yes&amp\;flow=809849" style="background-image: linear-gradient(currentcolor\, currentcolor)\; background-position: left bottom\; background-size: 100% 1px\; background-repeat: no-repeat\; background-attachment: initial\; background-origin: initial\; background-clip: initial\; cursor: pointer\; color: rgb(20\, 112\, 175)\; text-decoration-line: none\; white-space: initial\; text-underline-offset: 0.2em\; text-decoration-skip-ink: auto\; display: inline\; transition: color 0.6s cubic-bezier(0.19\, 1\, 0.22\, 1)\, background-size calc(0.3s) cubic-bezier(0.19\, 1\, 0.22\, 1)\; overflow-wrap: break-word\; background-color: rgb(81\, 156\, 188) !important\;" target="_blank">Buy Tickets</a></p>\n	</li>\n</ul>\n\n<p><strong>Saturday\, August 30st\, 2025</strong></p>\n\n<ul>\n	<li>\n	<p><strong>Schooner Festival Sunset Scenic Cruise Gloucester Harbor: Departs at </strong>6PM 7:30PM - <a href="https://fareharbor.com/embeds/book/capeanncruises/items/405031/availability/1725650279/book/?full-items=yes&amp\;flow=809849" style="background-image: linear-gradient(currentcolor\, currentcolor)\; background-position: left bottom\; background-size: 100% 1px\; background-repeat: no-repeat\; background-attachment: initial\; background-origin: initial\; background-clip: initial\; cursor: pointer\; color: rgb(20\, 112\, 175)\; text-decoration-line: none\; white-space: initial\; text-underline-offset: 0.2em\; text-decoration-skip-ink: auto\; display: inline\; transition: color 0.6s cubic-bezier(0.19\, 1\, 0.22\, 1)\, background-size calc(0.3s) cubic-bezier(0.19\, 1\, 0.22\, 1)\; overflow-wrap: break-word\; background-color: rgb(81\, 156\, 188) !important\;" target="_blank">details &amp\; tickets</a></p>\n	</li>\n	<li>\n	<p><strong>8PM - FIREWORKS Cruise Gloucester Harbor [low ticket alert] - </strong> Departs 8:00PM <a href="https://fareharbor.com/embeds/book/capeanncruises/items/405031/availability/1725652041/book/?full-items=yes&amp\;flow=809849" style="background-image: linear-gradient(currentcolor\, currentcolor)\; background-position: left bottom\; background-size: 100% 1px\; background-repeat: no-repeat\; background-attachment: initial\; background-origin: initial\; background-clip: initial\; cursor: pointer\; color: rgb(20\, 112\, 175)\; text-decoration-line: none\; white-space: initial\; text-underline-offset: 0.2em\; text-decoration-skip-ink: auto\; display: inline\; transition: color 0.6s cubic-bezier(0.19\, 1\, 0.22\, 1)\, background-size calc(0.3s) cubic-bezier(0.19\, 1\, 0.22\, 1)\; overflow-wrap: break-word\; background-color: rgb(81\, 156\, 188) !important\;" target="_blank">details &amp\; tickets</a></p>\n	</li>\n</ul>\n\n<p><strong>Sunday\, August 31st\, 2025</strong></p>\n\n<ul>\n	<li>\n	<p><strong>Parade of Sail Cruise</strong> Departs at 9:30 AM <a href="https://fareharbor.com/embeds/book/capeanncruises/items/405031/availability/1725652516/book/?full-items=yes&amp\;flow=809849" style="background-image: linear-gradient(currentcolor\, currentcolor)\; background-position: left bottom\; background-size: 100% 1px\; background-repeat: no-repeat\; background-attachment: initial\; background-origin: initial\; background-clip: initial\; cursor: pointer\; color: rgb(20\, 112\, 175)\; text-decoration-line: none\; white-space: initial\; text-underline-offset: 0.2em\; text-decoration-skip-ink: auto\; display: inline\; transition: color 0.6s cubic-bezier(0.19\, 1\, 0.22\, 1)\, background-size calc(0.3s) cubic-bezier(0.19\, 1\, 0.22\, 1)\; overflow-wrap: break-word\; background-color: rgb(81\, 156\, 188) !important\;" target="_blank">details &amp\; tickets</a></p>\n	</li>\n	<li>\n	<p><strong>Mayor&rsquo\;s Cup Race - </strong>Departs at 12:30 PM <a href="https://fareharbor.com/embeds/book/capeanncruises/items/405031/availability/1725652535/book/?full-items=yes&amp\;flow=809849" style="background-image: linear-gradient(currentcolor\, currentcolor)\; background-position: left bottom\; background-size: 100% 1px\; background-repeat: no-repeat\; background-attachment: initial\; background-origin: initial\; background-clip: initial\; cursor: pointer\; color: rgb(20\, 112\, 175)\; text-decoration-line: none\; white-space: initial\; text-underline-offset: 0.2em\; text-decoration-skip-ink: auto\; display: inline\; transition: color 0.6s cubic-bezier(0.19\, 1\, 0.22\, 1)\, background-size calc(0.3s) cubic-bezier(0.19\, 1\, 0.22\, 1)\; overflow-wrap: break-word\; background-color: rgb(81\, 156\, 188) !important\;" target="_blank">details &amp\; tickets</a></p>\n	</li>\n	<li>\n	<p><strong>See the Schooners</strong> - Scenic Gloucester Harbor Cruise Departs at 3:30 PM <a href="https://fareharbor.com/embeds/book/capeanncruises/items/405031/availability/1725655150/book/?full-items=yes&amp\;flow=809849" style="background-image: linear-gradient(currentcolor\, currentcolor)\; background-position: left bottom\; background-size: 100% 1px\; background-repeat: no-repeat\; background-attachment: initial\; background-origin: initial\; background-clip: initial\; cursor: pointer\; color: rgb(20\, 112\, 175)\; text-decoration-line: none\; white-space: initial\; text-underline-offset: 0.2em\; text-decoration-skip-ink: auto\; display: inline\; transition: color 0.6s cubic-bezier(0.19\, 1\, 0.22\, 1)\, background-size calc(0.3s) cubic-bezier(0.19\, 1\, 0.22\, 1)\; overflow-wrap: break-word\; background-color: rgb(81\, 156\, 188) !important\;" target="_blank">details &amp\; tickets</a></p>\n	</li>\n	<li>\n	<p><strong>See the Schooners at Sunset </strong>- Departs at 6 PM details &amp\; tickets</p>\n	</li>\n</ul>\n\n<p><strong>Monday\, September 1st\, 2025</strong></p>\n\n<ul>\n	<li>\n	<p><strong>See the Schooners - </strong>Scenic Gloucester Harbor Cruise Departs at 12 PM <a href="https://fareharbor.com/embeds/book/capeanncruises/items/405031/availability/1725659701/book/?full-items=yes&amp\;flow=809849" style="background-image: linear-gradient(currentcolor\, currentcolor)\; background-position: left bottom\; background-size: 100% 1px\; background-repeat: no-repeat\; background-attachment: initial\; background-origin: initial\; background-clip: initial\; cursor: pointer\; color: rgb(20\, 112\, 175)\; text-decoration-line: none\; white-space: initial\; text-underline-offset: 0.2em\; text-decoration-skip-ink: auto\; display: inline\; transition: color 0.6s cubic-bezier(0.19\, 1\, 0.22\, 1)\, background-size calc(0.3s) cubic-bezier(0.19\, 1\, 0.22\, 1)\; overflow-wrap: break-word\; background-color: rgb(81\, 156\, 188) !important\;" target="_blank">details &amp\; tickets</a></p>\n	</li>\n	<li>\n	<p><strong>See the Schooners -</strong> Scenic Gloucester Harbor Cruise Departs at 3:30 PM <a href="https://fareharbor.com/embeds/book/capeanncruises/items/405031/availability/1725659703/book/?full-items=yes&amp\;flow=809849" style="background-image: linear-gradient(currentcolor\, currentcolor)\; background-position: left bottom\; background-size: 100% 1px\; background-repeat: no-repeat\; background-attachment: initial\; background-origin: initial\; background-clip: initial\; cursor: pointer\; color: rgb(20\, 112\, 175)\; text-decoration-line: none\; white-space: initial\; text-underline-offset: 0.2em\; text-decoration-skip-ink: auto\; display: inline\; transition: color 0.6s cubic-bezier(0.19\, 1\, 0.22\, 1)\, background-size calc(0.3s) cubic-bezier(0.19\, 1\, 0.22\, 1)\; overflow-wrap: break-word\; background-color: rgb(81\, 156\, 188) !important\;" target="_blank">details &amp\; tickets</a></p>\n	</li>\n	<li>\n	<p><strong>See the Schooners at Sunset</strong> - Departs at 6 PM <a href="https://fareharbor.com/embeds/book/capeanncruises/items/405031/availability/1725659707/book/?full-items=yes&amp\;flow=809849" style="background-image: linear-gradient(currentcolor\, currentcolor)\; background-position: left bottom\; background-size: 100% 1px\; background-repeat: no-repeat\; background-attachment: initial\; background-origin: initial\; background-clip: initial\; cursor: pointer\; color: rgb(20\, 112\, 175)\; text-decoration-line: none\; white-space: initial\; text-underline-offset: 0.2em\; text-decoration-skip-ink: auto\; display: inline\; transition: color 0.6s cubic-bezier(0.19\, 1\, 0.22\, 1)\, background-size calc(0.3s) cubic-bezier(0.19\, 1\, 0.22\, 1)\; overflow-wrap: break-word\; background-color: rgb(81\, 156\, 188) !important\;" target="_blank">details &amp\; tickets</a></p>\n	</li>\n</ul>\n
LOCATION:63 Rogers Street Gloucester\, MA 01930
UID:e.2981.36686
SEQUENCE:3
DTSTAMP:20260425T001314Z
URL:https://business.capeannchamber.com/events/details/gloucester-schooner-festival-schedule-of-events-2025-calendar-cruise-schedule-aboard-wejack-to-view-the-schooners-schooner-races-boat-parade-of-lights-gloucester-fireworks-and-parade-of-sail-36686
END:VEVENT

END:VCALENDAR
