BEGIN:VCALENDAR
VERSION:2.0
PRODID:-//ChamberMaster//Event Calendar 2.0//EN
METHOD:PUBLISH
X-PUBLISHED-TTL:P3D
REFRESH-INTERVAL:P3D
CALSCALE:GREGORIAN
BEGIN:VEVENT
DTSTART:20260124T150000Z
DTEND:20260125T210000Z
X-MICROSOFT-CDO-ALLDAYEVENT:FALSE
SUMMARY:Gloucester's So Salty
DESCRIPTION:Join Cape Ann Museum in celebrating the fish city's recognizably salty character with the 5th Annual Gloucester's So Salty\, a festival sponsored by the Cape Ann Museum in partnership with Discover Gloucester.\n\nThis annual event brings over 2\,000 people to the downtown area each January to shop at local stores\, enjoy family friendly activities\, visit the Museum Courtyard\, and find each of the ice sculptures sponsored by local cultural institutions and businesses.\n\nGloucester's So Salty will take place on Saturday\, January 24 and Sunday\, January 25\, 2026 from 10:00 am   4:00 pm!
X-ALT-DESC;FMTTYPE=text/html:<p style="box-sizing: border-box\; margin: 0px 0px 15px\; padding: 0px\; border: 0px rgb(211\, 211\, 211)\; font-variant-numeric: inherit\; font-variant-east-asian: inherit\; font-variant-alternates: inherit\; font-variant-position: inherit\; font-variant-emoji: inherit\; font-stretch: inherit\; font-size: 19px\; line-height: inherit\; font-family: Archivo\; font-optical-sizing: inherit\; font-size-adjust: inherit\; font-kerning: inherit\; font-feature-settings: inherit\; font-variation-settings: inherit\; font-language-override: inherit\; vertical-align: baseline\;">Join Cape Ann Museum&nbsp\;in celebrating the fish city&rsquo\;s recognizably salty character with the 5th Annual Gloucester&rsquo\;s So Salty\, a festival sponsored by the Cape Ann Museum in partnership with Discover Gloucester.</p>\n\n<p style="box-sizing: border-box\; margin: 0px 0px 15px\; padding: 0px\; border: 0px rgb(211\, 211\, 211)\; font-variant-numeric: inherit\; font-variant-east-asian: inherit\; font-variant-alternates: inherit\; font-variant-position: inherit\; font-variant-emoji: inherit\; font-stretch: inherit\; font-size: 19px\; line-height: inherit\; font-family: Archivo\; font-optical-sizing: inherit\; font-size-adjust: inherit\; font-kerning: inherit\; font-feature-settings: inherit\; font-variation-settings: inherit\; font-language-override: inherit\; vertical-align: baseline\;">This annual event brings over 2\,000 people to the downtown area each January to shop at local stores\, enjoy family friendly activities\, visit the Museum Courtyard\, and find each of the ice sculptures sponsored by local cultural institutions and businesses.</p>\n\n<p style="box-sizing: border-box\; margin: 0px 0px 15px\; padding: 0px\; border: 0px rgb(211\, 211\, 211)\; font-variant-numeric: inherit\; font-variant-east-asian: inherit\; font-variant-alternates: inherit\; font-variant-position: inherit\; font-variant-emoji: inherit\; font-stretch: inherit\; font-size: 19px\; line-height: inherit\; font-family: Archivo\; font-optical-sizing: inherit\; font-size-adjust: inherit\; font-kerning: inherit\; font-feature-settings: inherit\; font-variation-settings: inherit\; font-language-override: inherit\; vertical-align: baseline\;">Gloucester&#39\;s So Salty will take place on Saturday\, January 24 and Sunday\, January 25\, 2026 from 10:00 am &ndash\; 4:00 pm!</p>\n
LOCATION:
UID:e.2981.45880
SEQUENCE:3
DTSTAMP:20260425T112906Z
URL:https://business.capeannchamber.com/events/details/gloucester-s-so-salty-01-24-2026-45880
END:VEVENT

END:VCALENDAR
