BEGIN:VCALENDAR
VERSION:2.0
PRODID:-//ChamberMaster//Event Calendar 2.0//EN
METHOD:PUBLISH
X-PUBLISHED-TTL:P3D
REFRESH-INTERVAL:P3D
CALSCALE:GREGORIAN
BEGIN:VEVENT
DTSTART:20260326T210000Z
DTEND:20260327T020000Z
X-MICROSOFT-CDO-ALLDAYEVENT:FALSE
SUMMARY:Gloucester Rotary Golf & Social Night
DESCRIPTION:Gloucester Rotary Golf & Social Night\n\nThursday\, March 26\, 2026 | Harbor 9 Sports Bar\n\n355 Gloucester Crossing\, Gloucester\, MA 01930\n\nTee Times: 5:00 PM & 7:00 PM\n\nTrackman Golf Simulators\n\nJoin the Gloucester Rotary Chapter for a fun\, high-energy night of golf\, games\, food\, drinks\, and fundraising   whether you golf or not!\n\nGOLF TOURNAMENT\n\n\n	4-Person Scramble Format\n	$400 per team\n	Only 10 teams total (5 teams per tee time)\n	Trackman simulators   the best in the game\n	Prizes awarded at the end of the night\n\n\nSKILL CHALLENGES (Open to Everyone)\n\nTry your hand at our on-site competitions   golfers and non-golfers welcome!\n\n\n	Longest Drive\n	Closest to the Pin\n	Short Game Challenge (putting or chipping)\n\n\n $10 per attempt\, 50/50 cash payouts\n\n\n	Longest Drive & Closest to the Pin: winner takes 50% of the pot\n	Short Game Challenge: hit the challenge and win the current pot on the spot\n\n\nRAFFLE & SOCIAL FUN\n\nNot a golfer? No problem.\n\n\n	Raffle baskets with great prizes\n	Raffle tickets:\n	\n		10 for $10\n		25 for $20\n	\n	\n\n\nCome eat\, drink\, socialize\, and support a great cause\n\nFOOD & DRINK\n\n\n	Food and beverages available for purchase\n	Cash or credit bar\n	Optional appetizer offerings coming soon\n	Please alert us to any food allergies during registration\n\n\nSPONSORSHIP OPPORTUNITIES\n\nSupport the Gloucester Rotary and gain great local exposure:\n\n\n	Gold Sponsor   $600 (1 available)\n\n	\n		Challenge bay named after sponsor\n		Event signage\n		Recognition in event communications\n		Verbal thank-you at the event\n	\n	\n	Silver Sponsor   $400 (2 available)\n	\n		Event signage\n		Recognition in event communications\n		Verbal thank-you at the event\n	\n	\n	Bronze Sponsor   $200 (3 available)\n	\n		Event signage\n		Verbal thank-you at the event\n	\n	\n\n\nLogo submission requested ASAP after signup\n\nWe are also looking for raffle baskets and would love for local business to put one together and be part of our raffle!\n\nQUESTIONS /SPONSORSHIPS/RAFFLE BASKETS/REGISTRATION DETAILS\n\nContact: Jameson@anotherlevelinspection.com\n\n All purchases are non-refundable
X-ALT-DESC;FMTTYPE=text/html:<h2><strong>Gloucester Rotary Golf &amp\; Social Night</strong></h2>\n\n<p><strong>Thursday\, March 26\, 2026 | Harbor 9 Sports Bar<br />\n355 Gloucester Crossing\, Gloucester\, MA 01930</strong></p>\n\n<p><strong>Tee Times: 5:00 PM &amp\; 7:00 PM</strong><br />\n<strong>Trackman Golf Simulators</strong></p>\n\n<p>Join the&nbsp\;<strong>Gloucester Rotary Chapter</strong>&nbsp\;for a fun\, high-energy night of golf\, games\, food\, drinks\, and fundraising &mdash\; whether you golf or not!</p>\n\n<h3><strong>GOLF TOURNAMENT</strong></h3>\n\n<ul>\n	<li><strong>4-Person Scramble Format</strong></li>\n	<li><strong>$400 per team</strong></li>\n	<li><strong>Only 10 teams total</strong>&nbsp\;(5 teams per tee time)</li>\n	<li>Trackman simulators &mdash\; the best in the game</li>\n	<li>Prizes awarded at the end of the night</li>\n</ul>\n\n<h3><strong>SKILL CHALLENGES (Open to Everyone)</strong></h3>\n\n<p>Try your hand at our on-site competitions &mdash\; golfers and non-golfers welcome!</p>\n\n<ul>\n	<li><strong>Longest Drive</strong></li>\n	<li><strong>Closest to the Pin</strong></li>\n	<li><strong>Short Game Challenge</strong>&nbsp\;(putting or chipping)</li>\n</ul>\n\n<p>&nbsp\;<strong>$10 per attempt\,&nbsp\;</strong><strong>50/50 cash payouts</strong></p>\n\n<ul>\n	<li>Longest Drive &amp\; Closest to the Pin: winner takes 50% of the pot</li>\n	<li>Short Game Challenge: hit the challenge and win the current pot on the spot</li>\n</ul>\n\n<h3><strong>RAFFLE &amp\; SOCIAL FUN</strong></h3>\n\n<p>Not a golfer? No problem.</p>\n\n<ul>\n	<li>Raffle baskets with great prizes</li>\n	<li><strong>Raffle tickets:</strong>\n	<ul>\n		<li>10 for $10</li>\n		<li>25 for $20</li>\n	</ul>\n	</li>\n</ul>\n\n<p>Come eat\, drink\, socialize\, and support a great cause</p>\n\n<h3><strong>FOOD &amp\; DRINK</strong></h3>\n\n<ul>\n	<li>Food and beverages available for purchase</li>\n	<li>Cash&nbsp\;<strong>or</strong>&nbsp\;credit bar</li>\n	<li>Optional appetizer offerings coming soon</li>\n	<li>Please alert us to any food allergies during registration</li>\n</ul>\n\n<h3><strong>SPONSORSHIP OPPORTUNITIES</strong></h3>\n\n<p>Support the Gloucester Rotary and gain great local exposure:</p>\n\n<ul>\n	<li><strong>Gold Sponsor &ndash\; $600 (1 available)</strong>\n\n	<ul>\n		<li>Challenge bay named after sponsor</li>\n		<li>Event signage</li>\n		<li>Recognition in event communications</li>\n		<li>Verbal thank-you at the event</li>\n	</ul>\n	</li>\n	<li><strong>Silver Sponsor &ndash\; $400 (2 available)</strong>\n	<ul>\n		<li>Event signage</li>\n		<li>Recognition in event communications</li>\n		<li>Verbal thank-you at the event</li>\n	</ul>\n	</li>\n	<li><strong>Bronze Sponsor &ndash\; $200 (3 available)</strong>\n	<ul>\n		<li>Event signage</li>\n		<li>Verbal thank-you at the event</li>\n	</ul>\n	</li>\n</ul>\n\n<p><strong>Logo submission requested ASAP after signup</strong></p>\n\n<p><strong>We are also looking for raffle baskets and would love for local business to put one together and be part of our raffle!</strong></p>\n\n<h3><strong>QUESTIONS /SPONSORSHIPS/RAFFLE BASKETS/REGISTRATION DETAILS</strong></h3>\n\n<p><strong>Contact:</strong>&nbsp\;<a href="mailto:Jameson@anotherlevelinspection.com" style="box-sizing: border-box\; font-family: inherit\; font-weight: inherit\; font-style: inherit\; margin: 0px\; padding: 0px\; vertical-align: baseline\; border: 0px\; outline: 0px\; transition: 0.2s ease-in-out\; text-decoration-line: none\; color: rgb(28\, 124\, 124)\;">Jameson@anotherlevelinspection.com</a><br />\n&nbsp\;All purchases are&nbsp\;<strong>non-refundable</strong></p>\n
LOCATION:Harbor 9 Sports Bar 355 Gloucester Crossing\, Gloucester\, MA 01930
UID:e.2981.46423
SEQUENCE:3
DTSTAMP:20260425T122858Z
URL:https://business.capeannchamber.com/events/details/gloucester-rotary-golf-social-night-46423
END:VEVENT

END:VCALENDAR
